Workbook

Sheet Setup
A1: Roommate expenses spreadsheet
A2: Type in the white cells. Shaded cells work themselves out.
A4: Which month am I looking at?
A5: Year | B5: 2026
A6: Month (1-12) | B6: 10
A7: Month key | B7: =$B$5*100+$B$6 | C7: used by the formulas, leave it be
A8: Showing | B8: =IF(OR($B$6<1,$B$6>12),"Pick a month 1-12",CHOOSE($B$6,"January","February","March","April","May","June","July","August","September","October","November","December")&" "&$B$5)
A10: Rent
A11: Monthly rent | B11: 2400 | C11: the whole rent for the place
A13: Roommate | B13: Rent share | C13: Rent per month
A14: Maya | B14: 0.4 | C14: =IF(OR($A14="",$B14=""),"",$B$11*$B14)
A15: Jordan | B15: 0.3 | C15: =IF(OR($A15="",$B15=""),"",$B$11*$B15)
A16: Sam | B16: 0.3 | C16: =IF(OR($A16="",$B16=""),"",$B$11*$B16)
C17: =IF(OR($A17="",$B17=""),"",$B$11*$B17)
C18: =IF(OR($A18="",$B18=""),"",$B$11*$B18)
C19: =IF(OR($A19="",$B19=""),"",$B$11*$B19)
A20: Total | B20: =SUM($B$14:$B$19) | C20: =SUM($C$14:$C$19)
A21: Rent share check | B21: =IF(ABS($B$20-1)<0.0001,"OK, adds up to 100%","Adds up to "&ROUND($B$20*100,2)&"%, make it 100%")
A23: Bigger room pays more: set each rent share here. Rows marked Split = Rent shares on the Expenses tab use these percentages.
A24: Three equal rooms? Type =1/3 in each rent share cell so it adds up to exactly 100%. Up to 6 roommates; their columns appear on Expenses automatically.
A26: Made with HippoSplit, expense splitting as easy as texting.
A27: Try it free: hipposplit.com

Sheet Expenses
A1: Type each expense in the white cells. Split: Equal, Rent shares or Custom | G1: Custom only: type amounts or weights | M1: Each share, filled in automatically. Names come from Setup
A2: Date | B2: Description | C2: Category | D2: Paid by | E2: Amount | F2: Split | G2: =IF(Setup!$A$14="","",Setup!$A$14) | H2: =IF(Setup!$A$15="","",Setup!$A$15) | I2: =IF(Setup!$A$16="","",Setup!$A$16) | J2: =IF(Setup!$A$17="","",Setup!$A$17) | K2: =IF(Setup!$A$18="","",Setup!$A$18) | L2: =IF(Setup!$A$19="","",Setup!$A$19) | M2: =IF(Setup!$A$14="","",Setup!$A$14) | N2: =IF(Setup!$A$15="","",Setup!$A$15) | O2: =IF(Setup!$A$16="","",Setup!$A$16) | P2: =IF(Setup!$A$17="","",Setup!$A$17) | Q2: =IF(Setup!$A$18="","",Setup!$A$18) | R2: =IF(Setup!$A$19="","",Setup!$A$19) | S2: Row check | T2: Month | U2: Notes / receipt link
A3: 46266 | B3: September rent | C3: Rent | D3: Maya | E3: 2400 | F3: Rent shares | M3: =IF(OR($E3="",M$2=""),"",ROUND(IF($F3="Rent shares",$E3*Setup!$B$14,IF($F3="Custom",IF(SUM($G3:$L3)=0,0,$E3*G3/SUM($G3:$L3)),$E3/COUNTA(Setup!$A$14:$A$19))),2)) | N3: =IF(OR($E3="",N$2=""),"",ROUND(IF($F3="Rent shares",$E3*Setup!$B$15,IF($F3="Custom",IF(SUM($G3:$L3)=0,0,$E3*H3/SUM($G3:$L3)),$E3/COUNTA(Setup!$A$14:$A$19))),2)) | O3: =IF(OR($E3="",O$2=""),"",ROUND(IF($F3="Rent shares",$E3*Setup!$B$16,IF($F3="Custom",IF(SUM($G3:$L3)=0,0,$E3*I3/SUM($G3:$L3)),$E3/COUNTA(Setup!$A$14:$A$19))),2)) | P3: =IF(OR($E3="",P$2=""),"",ROUND(IF($F3="Rent shares",$E3*Setup!$B$17,IF($F3="Custom",IF(SUM($G3:$L3)=0,0,$E3*J3/SUM($G3:$L3)),$E3/COUNTA(Setup!$A$14:$A$19))),2)) | Q3: =IF(OR($E3="",Q$2=""),"",ROUND(IF($F3="Rent shares",$E3*Setup!$B$18,IF($F3="Custom",IF(SUM($G3:$L3)=0,0,$E3*K3/SUM($G3:$L3)),$E3/COUNTA(Setup!$A$14:$A$19))),2)) | R3: =IF(OR($E3="",R$2=""),"",ROUND(IF($F3="Rent shares",$E3*Setup!$B$19,IF($F3="Custom",IF(SUM($G3:$L3)=0,0,$E3*L3/SUM($G3:$L3)),$E3/COUNTA(Setup!$A$14:$A$19))),2)) | S3: =IF($E3="","",IF(ABS(SUM(M3:R3)-$E3)<0.02,"OK","CHECK")) | T3: =IF($A3="","",YEAR($A3)*100+MONTH($A3))
A4: 46270 | B4: Electricity bill | C4: Electricity | D4: Jordan | E4: 96 | F4: Equal | M4: =IF(OR($E4="",M$2=""),"",ROUND(IF($F4="Rent shares",$E4*Setup!$B$14,IF($F4="Custom",IF(SUM($G4:$L4)=0,0,$E4*G4/SUM($G4:$L4)),$E4/COUNTA(Setup!$A$14:$A$19))),2)) | N4: =IF(OR($E4="",N$2=""),"",ROUND(IF($F4="Rent shares",$E4*Setup!$B$15,IF($F4="Custom",IF(SUM($G4:$L4)=0,0,$E4*H4/SUM($G4:$L4)),$E4/COUNTA(Setup!$A$14:$A$19))),2)) | O4: =IF(OR($E4="",O$2=""),"",ROUND(IF($F4="Rent shares",$E4*Setup!$B$16,IF($F4="Custom",IF(SUM($G4:$L4)=0,0,$E4*I4/SUM($G4:$L4)),$E4/COUNTA(Setup!$A$14:$A$19))),2)) | P4: =IF(OR($E4="",P$2=""),"",ROUND(IF($F4="Rent shares",$E4*Setup!$B$17,IF($F4="Custom",IF(SUM($G4:$L4)=0,0,$E4*J4/SUM($G4:$L4)),$E4/COUNTA(Setup!$A$14:$A$19))),2)) | Q4: =IF(OR($E4="",Q$2=""),"",ROUND(IF($F4="Rent shares",$E4*Setup!$B$18,IF($F4="Custom",IF(SUM($G4:$L4)=0,0,$E4*K4/SUM($G4:$L4)),$E4/COUNTA(Setup!$A$14:$A$19))),2)) | R4: =IF(OR($E4="",R$2=""),"",ROUND(IF($F4="Rent shares",$E4*Setup!$B$19,IF($F4="Custom",IF(SUM($G4:$L4)=0,0,$E4*L4/SUM($G4:$L4)),$E4/COUNTA(Setup!$A$14:$A$19))),2)) | S4: =IF($E4="","",IF(ABS(SUM(M4:R4)-$E4)<0.02,"OK","CHECK")) | T4: =IF($A4="","",YEAR($A4)*100+MONTH($A4))
A5: 46273 | B5: Internet | C5: Internet | D5: Sam | E5: 75 | F5: Equal | M5: =IF(OR($E5="",M$2=""),"",ROUND(IF($F5="Rent shares",$E5*Setup!$B$14,IF($F5="Custom",IF(SUM($G5:$L5)=0,0,$E5*G5/SUM($G5:$L5)),$E5/COUNTA(Setup!$A$14:$A$19))),2)) | N5: =IF(OR($E5="",N$2=""),"",ROUND(IF($F5="Rent shares",$E5*Setup!$B$15,IF($F5="Custom",IF(SUM($G5:$L5)=0,0,$E5*H5/SUM($G5:$L5)),$E5/COUNTA(Setup!$A$14:$A$19))),2)) | O5: =IF(OR($E5="",O$2=""),"",ROUND(IF($F5="Rent shares",$E5*Setup!$B$16,IF($F5="Custom",IF(SUM($G5:$L5)=0,0,$E5*I5/SUM($G5:$L5)),$E5/COUNTA(Setup!$A$14:$A$19))),2)) | P5: =IF(OR($E5="",P$2=""),"",ROUND(IF($F5="Rent shares",$E5*Setup!$B$17,IF($F5="Custom",IF(SUM($G5:$L5)=0,0,$E5*J5/SUM($G5:$L5)),$E5/COUNTA(Setup!$A$14:$A$19))),2)) | Q5: =IF(OR($E5="",Q$2=""),"",ROUND(IF($F5="Rent shares",$E5*Setup!$B$18,IF($F5="Custom",IF(SUM($G5:$L5)=0,0,$E5*K5/SUM($G5:$L5)),$E5/COUNTA(Setup!$A$14:$A$19))),2)) | R5: =IF(OR($E5="",R$2=""),"",ROUND(IF($F5="Rent shares",$E5*Setup!$B$19,IF($F5="Custom",IF(SUM($G5:$L5)=0,0,$E5*L5/SUM($G5:$L5)),$E5/COUNTA(Setup!$A$14:$A$19))),2)) | S5: =IF($E5="","",IF(ABS(SUM(M5:R5)-$E5)<0.02,"OK","CHECK")) | T5: =IF($A5="","",YEAR($A5)*100+MONTH($A5))
A6: 46275 | B6: Netflix and Spotify | C6: Streaming & subscriptions | D6: Jordan | E6: 36 | F6: Equal | M6: =IF(OR($E6="",M$2=""),"",ROUND(IF($F6="Rent shares",$E6*Setup!$B$14,IF($F6="Custom",IF(SUM($G6:$L6)=0,0,$E6*G6/SUM($G6:$L6)),$E6/COUNTA(Setup!$A$14:$A$19))),2)) | N6: =IF(OR($E6="",N$2=""),"",ROUND(IF($F6="Rent shares",$E6*Setup!$B$15,IF($F6="Custom",IF(SUM($G6:$L6)=0,0,$E6*H6/SUM($G6:$L6)),$E6/COUNTA(Setup!$A$14:$A$19))),2)) | O6: =IF(OR($E6="",O$2=""),"",ROUND(IF($F6="Rent shares",$E6*Setup!$B$16,IF($F6="Custom",IF(SUM($G6:$L6)=0,0,$E6*I6/SUM($G6:$L6)),$E6/COUNTA(Setup!$A$14:$A$19))),2)) | P6: =IF(OR($E6="",P$2=""),"",ROUND(IF($F6="Rent shares",$E6*Setup!$B$17,IF($F6="Custom",IF(SUM($G6:$L6)=0,0,$E6*J6/SUM($G6:$L6)),$E6/COUNTA(Setup!$A$14:$A$19))),2)) | Q6: =IF(OR($E6="",Q$2=""),"",ROUND(IF($F6="Rent shares",$E6*Setup!$B$18,IF($F6="Custom",IF(SUM($G6:$L6)=0,0,$E6*K6/SUM($G6:$L6)),$E6/COUNTA(Setup!$A$14:$A$19))),2)) | R6: =IF(OR($E6="",R$2=""),"",ROUND(IF($F6="Rent shares",$E6*Setup!$B$19,IF($F6="Custom",IF(SUM($G6:$L6)=0,0,$E6*L6/SUM($G6:$L6)),$E6/COUNTA(Setup!$A$14:$A$19))),2)) | S6: =IF($E6="","",IF(ABS(SUM(M6:R6)-$E6)<0.02,"OK","CHECK")) | T6: =IF($A6="","",YEAR($A6)*100+MONTH($A6))
A7: 46279 | B7: Groceries and cleaning stuff | C7: Groceries & household | D7: Sam | E7: 126 | F7: Equal | M7: =IF(OR($E7="",M$2=""),"",ROUND(IF($F7="Rent shares",$E7*Setup!$B$14,IF($F7="Custom",IF(SUM($G7:$L7)=0,0,$E7*G7/SUM($G7:$L7)),$E7/COUNTA(Setup!$A$14:$A$19))),2)) | N7: =IF(OR($E7="",N$2=""),"",ROUND(IF($F7="Rent shares",$E7*Setup!$B$15,IF($F7="Custom",IF(SUM($G7:$L7)=0,0,$E7*H7/SUM($G7:$L7)),$E7/COUNTA(Setup!$A$14:$A$19))),2)) | O7: =IF(OR($E7="",O$2=""),"",ROUND(IF($F7="Rent shares",$E7*Setup!$B$16,IF($F7="Custom",IF(SUM($G7:$L7)=0,0,$E7*I7/SUM($G7:$L7)),$E7/COUNTA(Setup!$A$14:$A$19))),2)) | P7: =IF(OR($E7="",P$2=""),"",ROUND(IF($F7="Rent shares",$E7*Setup!$B$17,IF($F7="Custom",IF(SUM($G7:$L7)=0,0,$E7*J7/SUM($G7:$L7)),$E7/COUNTA(Setup!$A$14:$A$19))),2)) | Q7: =IF(OR($E7="",Q$2=""),"",ROUND(IF($F7="Rent shares",$E7*Setup!$B$18,IF($F7="Custom",IF(SUM($G7:$L7)=0,0,$E7*K7/SUM($G7:$L7)),$E7/COUNTA(Setup!$A$14:$A$19))),2)) | R7: =IF(OR($E7="",R$2=""),"",ROUND(IF($F7="Rent shares",$E7*Setup!$B$19,IF($F7="Custom",IF(SUM($G7:$L7)=0,0,$E7*L7/SUM($G7:$L7)),$E7/COUNTA(Setup!$A$14:$A$19))),2)) | S7: =IF($E7="","",IF(ABS(SUM(M7:R7)-$E7)<0.02,"OK","CHECK")) | T7: =IF($A7="","",YEAR($A7)*100+MONTH($A7))
A8: 46285 | B8: Living room couch | C8: Furniture & one-offs | D8: Maya | E8: 900 | F8: Custom | G8: 2 | H8: 1 | I8: 1 | M8: =IF(OR($E8="",M$2=""),"",ROUND(IF($F8="Rent shares",$E8*Setup!$B$14,IF($F8="Custom",IF(SUM($G8:$L8)=0,0,$E8*G8/SUM($G8:$L8)),$E8/COUNTA(Setup!$A$14:$A$19))),2)) | N8: =IF(OR($E8="",N$2=""),"",ROUND(IF($F8="Rent shares",$E8*Setup!$B$15,IF($F8="Custom",IF(SUM($G8:$L8)=0,0,$E8*H8/SUM($G8:$L8)),$E8/COUNTA(Setup!$A$14:$A$19))),2)) | O8: =IF(OR($E8="",O$2=""),"",ROUND(IF($F8="Rent shares",$E8*Setup!$B$16,IF($F8="Custom",IF(SUM($G8:$L8)=0,0,$E8*I8/SUM($G8:$L8)),$E8/COUNTA(Setup!$A$14:$A$19))),2)) | P8: =IF(OR($E8="",P$2=""),"",ROUND(IF($F8="Rent shares",$E8*Setup!$B$17,IF($F8="Custom",IF(SUM($G8:$L8)=0,0,$E8*J8/SUM($G8:$L8)),$E8/COUNTA(Setup!$A$14:$A$19))),2)) | Q8: =IF(OR($E8="",Q$2=""),"",ROUND(IF($F8="Rent shares",$E8*Setup!$B$18,IF($F8="Custom",IF(SUM($G8:$L8)=0,0,$E8*K8/SUM($G8:$L8)),$E8/COUNTA(Setup!$A$14:$A$19))),2)) | R8: =IF(OR($E8="",R$2=""),"",ROUND(IF($F8="Rent shares",$E8*Setup!$B$19,IF($F8="Custom",IF(SUM($G8:$L8)=0,0,$E8*L8/SUM($G8:$L8)),$E8/COUNTA(Setup!$A$14:$A$19))),2)) | S8: =IF($E8="","",IF(ABS(SUM(M8:R8)-$E8)<0.02,"OK","CHECK")) | T8: =IF($A8="","",YEAR($A8)*100+MONTH($A8))
A9: 46293 | B9: Gas bill | C9: Gas | D9: Sam | E9: 54 | F9: Equal | M9: =IF(OR($E9="",M$2=""),"",ROUND(IF($F9="Rent shares",$E9*Setup!$B$14,IF($F9="Custom",IF(SUM($G9:$L9)=0,0,$E9*G9/SUM($G9:$L9)),$E9/COUNTA(Setup!$A$14:$A$19))),2)) | N9: =IF(OR($E9="",N$2=""),"",ROUND(IF($F9="Rent shares",$E9*Setup!$B$15,IF($F9="Custom",IF(SUM($G9:$L9)=0,0,$E9*H9/SUM($G9:$L9)),$E9/COUNTA(Setup!$A$14:$A$19))),2)) | O9: =IF(OR($E9="",O$2=""),"",ROUND(IF($F9="Rent shares",$E9*Setup!$B$16,IF($F9="Custom",IF(SUM($G9:$L9)=0,0,$E9*I9/SUM($G9:$L9)),$E9/COUNTA(Setup!$A$14:$A$19))),2)) | P9: =IF(OR($E9="",P$2=""),"",ROUND(IF($F9="Rent shares",$E9*Setup!$B$17,IF($F9="Custom",IF(SUM($G9:$L9)=0,0,$E9*J9/SUM($G9:$L9)),$E9/COUNTA(Setup!$A$14:$A$19))),2)) | Q9: =IF(OR($E9="",Q$2=""),"",ROUND(IF($F9="Rent shares",$E9*Setup!$B$18,IF($F9="Custom",IF(SUM($G9:$L9)=0,0,$E9*K9/SUM($G9:$L9)),$E9/COUNTA(Setup!$A$14:$A$19))),2)) | R9: =IF(OR($E9="",R$2=""),"",ROUND(IF($F9="Rent shares",$E9*Setup!$B$19,IF($F9="Custom",IF(SUM($G9:$L9)=0,0,$E9*L9/SUM($G9:$L9)),$E9/COUNTA(Setup!$A$14:$A$19))),2)) | S9: =IF($E9="","",IF(ABS(SUM(M9:R9)-$E9)<0.02,"OK","CHECK")) | T9: =IF($A9="","",YEAR($A9)*100+MONTH($A9))
A10: 46296 | B10: Jordan paid Maya for September | C10: Repayment | D10: Jordan | E10: 942 | F10: Custom | G10: 1 | H10: 0 | I10: 0 | M10: =IF(OR($E10="",M$2=""),"",ROUND(IF($F10="Rent shares",$E10*Setup!$B$14,IF($F10="Custom",IF(SUM($G10:$L10)=0,0,$E10*G10/SUM($G10:$L10)),$E10/COUNTA(Setup!$A$14:$A$19))),2)) | N10: =IF(OR($E10="",N$2=""),"",ROUND(IF($F10="Rent shares",$E10*Setup!$B$15,IF($F10="Custom",IF(SUM($G10:$L10)=0,0,$E10*H10/SUM($G10:$L10)),$E10/COUNTA(Setup!$A$14:$A$19))),2)) | O10: =IF(OR($E10="",O$2=""),"",ROUND(IF($F10="Rent shares",$E10*Setup!$B$16,IF($F10="Custom",IF(SUM($G10:$L10)=0,0,$E10*I10/SUM($G10:$L10)),$E10/COUNTA(Setup!$A$14:$A$19))),2)) | P10: =IF(OR($E10="",P$2=""),"",ROUND(IF($F10="Rent shares",$E10*Setup!$B$17,IF($F10="Custom",IF(SUM($G10:$L10)=0,0,$E10*J10/SUM($G10:$L10)),$E10/COUNTA(Setup!$A$14:$A$19))),2)) | Q10: =IF(OR($E10="",Q$2=""),"",ROUND(IF($F10="Rent shares",$E10*Setup!$B$18,IF($F10="Custom",IF(SUM($G10:$L10)=0,0,$E10*K10/SUM($G10:$L10)),$E10/COUNTA(Setup!$A$14:$A$19))),2)) | R10: =IF(OR($E10="",R$2=""),"",ROUND(IF($F10="Rent shares",$E10*Setup!$B$19,IF($F10="Custom",IF(SUM($G10:$L10)=0,0,$E10*L10/SUM($G10:$L10)),$E10/COUNTA(Setup!$A$14:$A$19))),2)) | S10: =IF($E10="","",IF(ABS(SUM(M10:R10)-$E10)<0.02,"OK","CHECK")) | T10: =IF($A10="","",YEAR($A10)*100+MONTH($A10))
A11: 46296 | B11: Sam paid Maya for September | C11: Repayment | D11: Sam | E11: 819 | F11: Custom | G11: 1 | H11: 0 | I11: 0 | M11: =IF(OR($E11="",M$2=""),"",ROUND(IF($F11="Rent shares",$E11*Setup!$B$14,IF($F11="Custom",IF(SUM($G11:$L11)=0,0,$E11*G11/SUM($G11:$L11)),$E11/COUNTA(Setup!$A$14:$A$19))),2)) | N11: =IF(OR($E11="",N$2=""),"",ROUND(IF($F11="Rent shares",$E11*Setup!$B$15,IF($F11="Custom",IF(SUM($G11:$L11)=0,0,$E11*H11/SUM($G11:$L11)),$E11/COUNTA(Setup!$A$14:$A$19))),2)) | O11: =IF(OR($E11="",O$2=""),"",ROUND(IF($F11="Rent shares",$E11*Setup!$B$16,IF($F11="Custom",IF(SUM($G11:$L11)=0,0,$E11*I11/SUM($G11:$L11)),$E11/COUNTA(Setup!$A$14:$A$19))),2)) | P11: =IF(OR($E11="",P$2=""),"",ROUND(IF($F11="Rent shares",$E11*Setup!$B$17,IF($F11="Custom",IF(SUM($G11:$L11)=0,0,$E11*J11/SUM($G11:$L11)),$E11/COUNTA(Setup!$A$14:$A$19))),2)) | Q11: =IF(OR($E11="",Q$2=""),"",ROUND(IF($F11="Rent shares",$E11*Setup!$B$18,IF($F11="Custom",IF(SUM($G11:$L11)=0,0,$E11*K11/SUM($G11:$L11)),$E11/COUNTA(Setup!$A$14:$A$19))),2)) | R11: =IF(OR($E11="",R$2=""),"",ROUND(IF($F11="Rent shares",$E11*Setup!$B$19,IF($F11="Custom",IF(SUM($G11:$L11)=0,0,$E11*L11/SUM($G11:$L11)),$E11/COUNTA(Setup!$A$14:$A$19))),2)) | S11: =IF($E11="","",IF(ABS(SUM(M11:R11)-$E11)<0.02,"OK","CHECK")) | T11: =IF($A11="","",YEAR($A11)*100+MONTH($A11))
A12: 46296 | B12: October rent | C12: Rent | D12: Maya | E12: 2400 | F12: Rent shares | M12: =IF(OR($E12="",M$2=""),"",ROUND(IF($F12="Rent shares",$E12*Setup!$B$14,IF($F12="Custom",IF(SUM($G12:$L12)=0,0,$E12*G12/SUM($G12:$L12)),$E12/COUNTA(Setup!$A$14:$A$19))),2)) | N12: =IF(OR($E12="",N$2=""),"",ROUND(IF($F12="Rent shares",$E12*Setup!$B$15,IF($F12="Custom",IF(SUM($G12:$L12)=0,0,$E12*H12/SUM($G12:$L12)),$E12/COUNTA(Setup!$A$14:$A$19))),2)) | O12: =IF(OR($E12="",O$2=""),"",ROUND(IF($F12="Rent shares",$E12*Setup!$B$16,IF($F12="Custom",IF(SUM($G12:$L12)=0,0,$E12*I12/SUM($G12:$L12)),$E12/COUNTA(Setup!$A$14:$A$19))),2)) | P12: =IF(OR($E12="",P$2=""),"",ROUND(IF($F12="Rent shares",$E12*Setup!$B$17,IF($F12="Custom",IF(SUM($G12:$L12)=0,0,$E12*J12/SUM($G12:$L12)),$E12/COUNTA(Setup!$A$14:$A$19))),2)) | Q12: =IF(OR($E12="",Q$2=""),"",ROUND(IF($F12="Rent shares",$E12*Setup!$B$18,IF($F12="Custom",IF(SUM($G12:$L12)=0,0,$E12*K12/SUM($G12:$L12)),$E12/COUNTA(Setup!$A$14:$A$19))),2)) | R12: =IF(OR($E12="",R$2=""),"",ROUND(IF($F12="Rent shares",$E12*Setup!$B$19,IF($F12="Custom",IF(SUM($G12:$L12)=0,0,$E12*L12/SUM($G12:$L12)),$E12/COUNTA(Setup!$A$14:$A$19))),2)) | S12: =IF($E12="","",IF(ABS(SUM(M12:R12)-$E12)<0.02,"OK","CHECK")) | T12: =IF($A12="","",YEAR($A12)*100+MONTH($A12))
A13: 46298 | B13: Electricity bill | C13: Electricity | D13: Jordan | E13: 84 | F13: Equal | M13: =IF(OR($E13="",M$2=""),"",ROUND(IF($F13="Rent shares",$E13*Setup!$B$14,IF($F13="Custom",IF(SUM($G13:$L13)=0,0,$E13*G13/SUM($G13:$L13)),$E13/COUNTA(Setup!$A$14:$A$19))),2)) | N13: =IF(OR($E13="",N$2=""),"",ROUND(IF($F13="Rent shares",$E13*Setup!$B$15,IF($F13="Custom",IF(SUM($G13:$L13)=0,0,$E13*H13/SUM($G13:$L13)),$E13/COUNTA(Setup!$A$14:$A$19))),2)) | O13: =IF(OR($E13="",O$2=""),"",ROUND(IF($F13="Rent shares",$E13*Setup!$B$16,IF($F13="Custom",IF(SUM($G13:$L13)=0,0,$E13*I13/SUM($G13:$L13)),$E13/COUNTA(Setup!$A$14:$A$19))),2)) | P13: =IF(OR($E13="",P$2=""),"",ROUND(IF($F13="Rent shares",$E13*Setup!$B$17,IF($F13="Custom",IF(SUM($G13:$L13)=0,0,$E13*J13/SUM($G13:$L13)),$E13/COUNTA(Setup!$A$14:$A$19))),2)) | Q13: =IF(OR($E13="",Q$2=""),"",ROUND(IF($F13="Rent shares",$E13*Setup!$B$18,IF($F13="Custom",IF(SUM($G13:$L13)=0,0,$E13*K13/SUM($G13:$L13)),$E13/COUNTA(Setup!$A$14:$A$19))),2)) | R13: =IF(OR($E13="",R$2=""),"",ROUND(IF($F13="Rent shares",$E13*Setup!$B$19,IF($F13="Custom",IF(SUM($G13:$L13)=0,0,$E13*L13/SUM($G13:$L13)),$E13/COUNTA(Setup!$A$14:$A$19))),2)) | S13: =IF($E13="","",IF(ABS(SUM(M13:R13)-$E13)<0.02,"OK","CHECK")) | T13: =IF($A13="","",YEAR($A13)*100+MONTH($A13))
A14: 46298 | B14: Dinner out for Jordan's birthday | C14: Other | D14: Sam | E14: 90 | F14: Custom | G14: 45 | H14: 0 | I14: 45 | M14: =IF(OR($E14="",M$2=""),"",ROUND(IF($F14="Rent shares",$E14*Setup!$B$14,IF($F14="Custom",IF(SUM($G14:$L14)=0,0,$E14*G14/SUM($G14:$L14)),$E14/COUNTA(Setup!$A$14:$A$19))),2)) | N14: =IF(OR($E14="",N$2=""),"",ROUND(IF($F14="Rent shares",$E14*Setup!$B$15,IF($F14="Custom",IF(SUM($G14:$L14)=0,0,$E14*H14/SUM($G14:$L14)),$E14/COUNTA(Setup!$A$14:$A$19))),2)) | O14: =IF(OR($E14="",O$2=""),"",ROUND(IF($F14="Rent shares",$E14*Setup!$B$16,IF($F14="Custom",IF(SUM($G14:$L14)=0,0,$E14*I14/SUM($G14:$L14)),$E14/COUNTA(Setup!$A$14:$A$19))),2)) | P14: =IF(OR($E14="",P$2=""),"",ROUND(IF($F14="Rent shares",$E14*Setup!$B$17,IF($F14="Custom",IF(SUM($G14:$L14)=0,0,$E14*J14/SUM($G14:$L14)),$E14/COUNTA(Setup!$A$14:$A$19))),2)) | Q14: =IF(OR($E14="",Q$2=""),"",ROUND(IF($F14="Rent shares",$E14*Setup!$B$18,IF($F14="Custom",IF(SUM($G14:$L14)=0,0,$E14*K14/SUM($G14:$L14)),$E14/COUNTA(Setup!$A$14:$A$19))),2)) | R14: =IF(OR($E14="",R$2=""),"",ROUND(IF($F14="Rent shares",$E14*Setup!$B$19,IF($F14="Custom",IF(SUM($G14:$L14)=0,0,$E14*L14/SUM($G14:$L14)),$E14/COUNTA(Setup!$A$14:$A$19))),2)) | S14: =IF($E14="","",IF(ABS(SUM(M14:R14)-$E14)<0.02,"OK","CHECK")) | T14: =IF($A14="","",YEAR($A14)*100+MONTH($A14))
A15: 46299 | B15: Internet | C15: Internet | D15: Sam | E15: 75 | F15: Equal | M15: =IF(OR($E15="",M$2=""),"",ROUND(IF($F15="Rent shares",$E15*Setup!$B$14,IF($F15="Custom",IF(SUM($G15:$L15)=0,0,$E15*G15/SUM($G15:$L15)),$E15/COUNTA(Setup!$A$14:$A$19))),2)) | N15: =IF(OR($E15="",N$2=""),"",ROUND(IF($F15="Rent shares",$E15*Setup!$B$15,IF($F15="Custom",IF(SUM($G15:$L15)=0,0,$E15*H15/SUM($G15:$L15)),$E15/COUNTA(Setup!$A$14:$A$19))),2)) | O15: =IF(OR($E15="",O$2=""),"",ROUND(IF($F15="Rent shares",$E15*Setup!$B$16,IF($F15="Custom",IF(SUM($G15:$L15)=0,0,$E15*I15/SUM($G15:$L15)),$E15/COUNTA(Setup!$A$14:$A$19))),2)) | P15: =IF(OR($E15="",P$2=""),"",ROUND(IF($F15="Rent shares",$E15*Setup!$B$17,IF($F15="Custom",IF(SUM($G15:$L15)=0,0,$E15*J15/SUM($G15:$L15)),$E15/COUNTA(Setup!$A$14:$A$19))),2)) | Q15: =IF(OR($E15="",Q$2=""),"",ROUND(IF($F15="Rent shares",$E15*Setup!$B$18,IF($F15="Custom",IF(SUM($G15:$L15)=0,0,$E15*K15/SUM($G15:$L15)),$E15/COUNTA(Setup!$A$14:$A$19))),2)) | R15: =IF(OR($E15="",R$2=""),"",ROUND(IF($F15="Rent shares",$E15*Setup!$B$19,IF($F15="Custom",IF(SUM($G15:$L15)=0,0,$E15*L15/SUM($G15:$L15)),$E15/COUNTA(Setup!$A$14:$A$19))),2)) | S15: =IF($E15="","",IF(ABS(SUM(M15:R15)-$E15)<0.02,"OK","CHECK")) | T15: =IF($A15="","",YEAR($A15)*100+MONTH($A15))
A16: 46300 | B16: Netflix and Spotify | C16: Streaming & subscriptions | D16: Jordan | E16: 36 | F16: Equal | M16: =IF(OR($E16="",M$2=""),"",ROUND(IF($F16="Rent shares",$E16*Setup!$B$14,IF($F16="Custom",IF(SUM($G16:$L16)=0,0,$E16*G16/SUM($G16:$L16)),$E16/COUNTA(Setup!$A$14:$A$19))),2)) | N16: =IF(OR($E16="",N$2=""),"",ROUND(IF($F16="Rent shares",$E16*Setup!$B$15,IF($F16="Custom",IF(SUM($G16:$L16)=0,0,$E16*H16/SUM($G16:$L16)),$E16/COUNTA(Setup!$A$14:$A$19))),2)) | O16: =IF(OR($E16="",O$2=""),"",ROUND(IF($F16="Rent shares",$E16*Setup!$B$16,IF($F16="Custom",IF(SUM($G16:$L16)=0,0,$E16*I16/SUM($G16:$L16)),$E16/COUNTA(Setup!$A$14:$A$19))),2)) | P16: =IF(OR($E16="",P$2=""),"",ROUND(IF($F16="Rent shares",$E16*Setup!$B$17,IF($F16="Custom",IF(SUM($G16:$L16)=0,0,$E16*J16/SUM($G16:$L16)),$E16/COUNTA(Setup!$A$14:$A$19))),2)) | Q16: =IF(OR($E16="",Q$2=""),"",ROUND(IF($F16="Rent shares",$E16*Setup!$B$18,IF($F16="Custom",IF(SUM($G16:$L16)=0,0,$E16*K16/SUM($G16:$L16)),$E16/COUNTA(Setup!$A$14:$A$19))),2)) | R16: =IF(OR($E16="",R$2=""),"",ROUND(IF($F16="Rent shares",$E16*Setup!$B$19,IF($F16="Custom",IF(SUM($G16:$L16)=0,0,$E16*L16/SUM($G16:$L16)),$E16/COUNTA(Setup!$A$14:$A$19))),2)) | S16: =IF($E16="","",IF(ABS(SUM(M16:R16)-$E16)<0.02,"OK","CHECK")) | T16: =IF($A16="","",YEAR($A16)*100+MONTH($A16))
A17: 46301 | B17: Groceries | C17: Groceries & household | D17: Sam | E17: 138 | F17: Equal | M17: =IF(OR($E17="",M$2=""),"",ROUND(IF($F17="Rent shares",$E17*Setup!$B$14,IF($F17="Custom",IF(SUM($G17:$L17)=0,0,$E17*G17/SUM($G17:$L17)),$E17/COUNTA(Setup!$A$14:$A$19))),2)) | N17: =IF(OR($E17="",N$2=""),"",ROUND(IF($F17="Rent shares",$E17*Setup!$B$15,IF($F17="Custom",IF(SUM($G17:$L17)=0,0,$E17*H17/SUM($G17:$L17)),$E17/COUNTA(Setup!$A$14:$A$19))),2)) | O17: =IF(OR($E17="",O$2=""),"",ROUND(IF($F17="Rent shares",$E17*Setup!$B$16,IF($F17="Custom",IF(SUM($G17:$L17)=0,0,$E17*I17/SUM($G17:$L17)),$E17/COUNTA(Setup!$A$14:$A$19))),2)) | P17: =IF(OR($E17="",P$2=""),"",ROUND(IF($F17="Rent shares",$E17*Setup!$B$17,IF($F17="Custom",IF(SUM($G17:$L17)=0,0,$E17*J17/SUM($G17:$L17)),$E17/COUNTA(Setup!$A$14:$A$19))),2)) | Q17: =IF(OR($E17="",Q$2=""),"",ROUND(IF($F17="Rent shares",$E17*Setup!$B$18,IF($F17="Custom",IF(SUM($G17:$L17)=0,0,$E17*K17/SUM($G17:$L17)),$E17/COUNTA(Setup!$A$14:$A$19))),2)) | R17: =IF(OR($E17="",R$2=""),"",ROUND(IF($F17="Rent shares",$E17*Setup!$B$19,IF($F17="Custom",IF(SUM($G17:$L17)=0,0,$E17*L17/SUM($G17:$L17)),$E17/COUNTA(Setup!$A$14:$A$19))),2)) | S17: =IF($E17="","",IF(ABS(SUM(M17:R17)-$E17)<0.02,"OK","CHECK")) | T17: =IF($A17="","",YEAR($A17)*100+MONTH($A17))
A18: 46301 | B18: Water bill | C18: Water | D18: Jordan | E18: 63 | F18: Equal | M18: =IF(OR($E18="",M$2=""),"",ROUND(IF($F18="Rent shares",$E18*Setup!$B$14,IF($F18="Custom",IF(SUM($G18:$L18)=0,0,$E18*G18/SUM($G18:$L18)),$E18/COUNTA(Setup!$A$14:$A$19))),2)) | N18: =IF(OR($E18="",N$2=""),"",ROUND(IF($F18="Rent shares",$E18*Setup!$B$15,IF($F18="Custom",IF(SUM($G18:$L18)=0,0,$E18*H18/SUM($G18:$L18)),$E18/COUNTA(Setup!$A$14:$A$19))),2)) | O18: =IF(OR($E18="",O$2=""),"",ROUND(IF($F18="Rent shares",$E18*Setup!$B$16,IF($F18="Custom",IF(SUM($G18:$L18)=0,0,$E18*I18/SUM($G18:$L18)),$E18/COUNTA(Setup!$A$14:$A$19))),2)) | P18: =IF(OR($E18="",P$2=""),"",ROUND(IF($F18="Rent shares",$E18*Setup!$B$17,IF($F18="Custom",IF(SUM($G18:$L18)=0,0,$E18*J18/SUM($G18:$L18)),$E18/COUNTA(Setup!$A$14:$A$19))),2)) | Q18: =IF(OR($E18="",Q$2=""),"",ROUND(IF($F18="Rent shares",$E18*Setup!$B$18,IF($F18="Custom",IF(SUM($G18:$L18)=0,0,$E18*K18/SUM($G18:$L18)),$E18/COUNTA(Setup!$A$14:$A$19))),2)) | R18: =IF(OR($E18="",R$2=""),"",ROUND(IF($F18="Rent shares",$E18*Setup!$B$19,IF($F18="Custom",IF(SUM($G18:$L18)=0,0,$E18*L18/SUM($G18:$L18)),$E18/COUNTA(Setup!$A$14:$A$19))),2)) | S18: =IF($E18="","",IF(ABS(SUM(M18:R18)-$E18)<0.02,"OK","CHECK")) | T18: =IF($A18="","",YEAR($A18)*100+MONTH($A18))
A19: 46302 | B19: Cleaning supplies | C19: Groceries & household | D19: Maya | E19: 45 | F19: Equal | M19: =IF(OR($E19="",M$2=""),"",ROUND(IF($F19="Rent shares",$E19*Setup!$B$14,IF($F19="Custom",IF(SUM($G19:$L19)=0,0,$E19*G19/SUM($G19:$L19)),$E19/COUNTA(Setup!$A$14:$A$19))),2)) | N19: =IF(OR($E19="",N$2=""),"",ROUND(IF($F19="Rent shares",$E19*Setup!$B$15,IF($F19="Custom",IF(SUM($G19:$L19)=0,0,$E19*H19/SUM($G19:$L19)),$E19/COUNTA(Setup!$A$14:$A$19))),2)) | O19: =IF(OR($E19="",O$2=""),"",ROUND(IF($F19="Rent shares",$E19*Setup!$B$16,IF($F19="Custom",IF(SUM($G19:$L19)=0,0,$E19*I19/SUM($G19:$L19)),$E19/COUNTA(Setup!$A$14:$A$19))),2)) | P19: =IF(OR($E19="",P$2=""),"",ROUND(IF($F19="Rent shares",$E19*Setup!$B$17,IF($F19="Custom",IF(SUM($G19:$L19)=0,0,$E19*J19/SUM($G19:$L19)),$E19/COUNTA(Setup!$A$14:$A$19))),2)) | Q19: =IF(OR($E19="",Q$2=""),"",ROUND(IF($F19="Rent shares",$E19*Setup!$B$18,IF($F19="Custom",IF(SUM($G19:$L19)=0,0,$E19*K19/SUM($G19:$L19)),$E19/COUNTA(Setup!$A$14:$A$19))),2)) | R19: =IF(OR($E19="",R$2=""),"",ROUND(IF($F19="Rent shares",$E19*Setup!$B$19,IF($F19="Custom",IF(SUM($G19:$L19)=0,0,$E19*L19/SUM($G19:$L19)),$E19/COUNTA(Setup!$A$14:$A$19))),2)) | S19: =IF($E19="","",IF(ABS(SUM(M19:R19)-$E19)<0.02,"OK","CHECK")) | T19: =IF($A19="","",YEAR($A19)*100+MONTH($A19))
M20: =IF(OR($E20="",M$2=""),"",ROUND(IF($F20="Rent shares",$E20*Setup!$B$14,IF($F20="Custom",IF(SUM($G20:$L20)=0,0,$E20*G20/SUM($G20:$L20)),$E20/COUNTA(Setup!$A$14:$A$19))),2)) | N20: =IF(OR($E20="",N$2=""),"",ROUND(IF($F20="Rent shares",$E20*Setup!$B$15,IF($F20="Custom",IF(SUM($G20:$L20)=0,0,$E20*H20/SUM($G20:$L20)),$E20/COUNTA(Setup!$A$14:$A$19))),2)) | O20: =IF(OR($E20="",O$2=""),"",ROUND(IF($F20="Rent shares",$E20*Setup!$B$16,IF($F20="Custom",IF(SUM($G20:$L20)=0,0,$E20*I20/SUM($G20:$L20)),$E20/COUNTA(Setup!$A$14:$A$19))),2)) | P20: =IF(OR($E20="",P$2=""),"",ROUND(IF($F20="Rent shares",$E20*Setup!$B$17,IF($F20="Custom",IF(SUM($G20:$L20)=0,0,$E20*J20/SUM($G20:$L20)),$E20/COUNTA(Setup!$A$14:$A$19))),2)) | Q20: =IF(OR($E20="",Q$2=""),"",ROUND(IF($F20="Rent shares",$E20*Setup!$B$18,IF($F20="Custom",IF(SUM($G20:$L20)=0,0,$E20*K20/SUM($G20:$L20)),$E20/COUNTA(Setup!$A$14:$A$19))),2)) | R20: =IF(OR($E20="",R$2=""),"",ROUND(IF($F20="Rent shares",$E20*Setup!$B$19,IF($F20="Custom",IF(SUM($G20:$L20)=0,0,$E20*L20/SUM($G20:$L20)),$E20/COUNTA(Setup!$A$14:$A$19))),2)) | S20: =IF($E20="","",IF(ABS(SUM(M20:R20)-$E20)<0.02,"OK","CHECK")) | T20: =IF($A20="","",YEAR($A20)*100+MONTH($A20))
M21: =IF(OR($E21="",M$2=""),"",ROUND(IF($F21="Rent shares",$E21*Setup!$B$14,IF($F21="Custom",IF(SUM($G21:$L21)=0,0,$E21*G21/SUM($G21:$L21)),$E21/COUNTA(Setup!$A$14:$A$19))),2)) | N21: =IF(OR($E21="",N$2=""),"",ROUND(IF($F21="Rent shares",$E21*Setup!$B$15,IF($F21="Custom",IF(SUM($G21:$L21)=0,0,$E21*H21/SUM($G21:$L21)),$E21/COUNTA(Setup!$A$14:$A$19))),2)) | O21: =IF(OR($E21="",O$2=""),"",ROUND(IF($F21="Rent shares",$E21*Setup!$B$16,IF($F21="Custom",IF(SUM($G21:$L21)=0,0,$E21*I21/SUM($G21:$L21)),$E21/COUNTA(Setup!$A$14:$A$19))),2)) | P21: =IF(OR($E21="",P$2=""),"",ROUND(IF($F21="Rent shares",$E21*Setup!$B$17,IF($F21="Custom",IF(SUM($G21:$L21)=0,0,$E21*J21/SUM($G21:$L21)),$E21/COUNTA(Setup!$A$14:$A$19))),2)) | Q21: =IF(OR($E21="",Q$2=""),"",ROUND(IF($F21="Rent shares",$E21*Setup!$B$18,IF($F21="Custom",IF(SUM($G21:$L21)=0,0,$E21*K21/SUM($G21:$L21)),$E21/COUNTA(Setup!$A$14:$A$19))),2)) | R21: =IF(OR($E21="",R$2=""),"",ROUND(IF($F21="Rent shares",$E21*Setup!$B$19,IF($F21="Custom",IF(SUM($G21:$L21)=0,0,$E21*L21/SUM($G21:$L21)),$E21/COUNTA(Setup!$A$14:$A$19))),2)) | S21: =IF($E21="","",IF(ABS(SUM(M21:R21)-$E21)<0.02,"OK","CHECK")) | T21: =IF($A21="","",YEAR($A21)*100+MONTH($A21))
M22: =IF(OR($E22="",M$2=""),"",ROUND(IF($F22="Rent shares",$E22*Setup!$B$14,IF($F22="Custom",IF(SUM($G22:$L22)=0,0,$E22*G22/SUM($G22:$L22)),$E22/COUNTA(Setup!$A$14:$A$19))),2)) | N22: =IF(OR($E22="",N$2=""),"",ROUND(IF($F22="Rent shares",$E22*Setup!$B$15,IF($F22="Custom",IF(SUM($G22:$L22)=0,0,$E22*H22/SUM($G22:$L22)),$E22/COUNTA(Setup!$A$14:$A$19))),2)) | O22: =IF(OR($E22="",O$2=""),"",ROUND(IF($F22="Rent shares",$E22*Setup!$B$16,IF($F22="Custom",IF(SUM($G22:$L22)=0,0,$E22*I22/SUM($G22:$L22)),$E22/COUNTA(Setup!$A$14:$A$19))),2)) | P22: =IF(OR($E22="",P$2=""),"",ROUND(IF($F22="Rent shares",$E22*Setup!$B$17,IF($F22="Custom",IF(SUM($G22:$L22)=0,0,$E22*J22/SUM($G22:$L22)),$E22/COUNTA(Setup!$A$14:$A$19))),2)) | Q22: =IF(OR($E22="",Q$2=""),"",ROUND(IF($F22="Rent shares",$E22*Setup!$B$18,IF($F22="Custom",IF(SUM($G22:$L22)=0,0,$E22*K22/SUM($G22:$L22)),$E22/COUNTA(Setup!$A$14:$A$19))),2)) | R22: =IF(OR($E22="",R$2=""),"",ROUND(IF($F22="Rent shares",$E22*Setup!$B$19,IF($F22="Custom",IF(SUM($G22:$L22)=0,0,$E22*L22/SUM($G22:$L22)),$E22/COUNTA(Setup!$A$14:$A$19))),2)) | S22: =IF($E22="","",IF(ABS(SUM(M22:R22)-$E22)<0.02,"OK","CHECK")) | T22: =IF($A22="","",YEAR($A22)*100+MONTH($A22))
M23: =IF(OR($E23="",M$2=""),"",ROUND(IF($F23="Rent shares",$E23*Setup!$B$14,IF($F23="Custom",IF(SUM($G23:$L23)=0,0,$E23*G23/SUM($G23:$L23)),$E23/COUNTA(Setup!$A$14:$A$19))),2)) | N23: =IF(OR($E23="",N$2=""),"",ROUND(IF($F23="Rent shares",$E23*Setup!$B$15,IF($F23="Custom",IF(SUM($G23:$L23)=0,0,$E23*H23/SUM($G23:$L23)),$E23/COUNTA(Setup!$A$14:$A$19))),2)) | O23: =IF(OR($E23="",O$2=""),"",ROUND(IF($F23="Rent shares",$E23*Setup!$B$16,IF($F23="Custom",IF(SUM($G23:$L23)=0,0,$E23*I23/SUM($G23:$L23)),$E23/COUNTA(Setup!$A$14:$A$19))),2)) | P23: =IF(OR($E23="",P$2=""),"",ROUND(IF($F23="Rent shares",$E23*Setup!$B$17,IF($F23="Custom",IF(SUM($G23:$L23)=0,0,$E23*J23/SUM($G23:$L23)),$E23/COUNTA(Setup!$A$14:$A$19))),2)) | Q23: =IF(OR($E23="",Q$2=""),"",ROUND(IF($F23="Rent shares",$E23*Setup!$B$18,IF($F23="Custom",IF(SUM($G23:$L23)=0,0,$E23*K23/SUM($G23:$L23)),$E23/COUNTA(Setup!$A$14:$A$19))),2)) | R23: =IF(OR($E23="",R$2=""),"",ROUND(IF($F23="Rent shares",$E23*Setup!$B$19,IF($F23="Custom",IF(SUM($G23:$L23)=0,0,$E23*L23/SUM($G23:$L23)),$E23/COUNTA(Setup!$A$14:$A$19))),2)) | S23: =IF($E23="","",IF(ABS(SUM(M23:R23)-$E23)<0.02,"OK","CHECK")) | T23: =IF($A23="","",YEAR($A23)*100+MONTH($A23))
M24: =IF(OR($E24="",M$2=""),"",ROUND(IF($F24="Rent shares",$E24*Setup!$B$14,IF($F24="Custom",IF(SUM($G24:$L24)=0,0,$E24*G24/SUM($G24:$L24)),$E24/COUNTA(Setup!$A$14:$A$19))),2)) | N24: =IF(OR($E24="",N$2=""),"",ROUND(IF($F24="Rent shares",$E24*Setup!$B$15,IF($F24="Custom",IF(SUM($G24:$L24)=0,0,$E24*H24/SUM($G24:$L24)),$E24/COUNTA(Setup!$A$14:$A$19))),2)) | O24: =IF(OR($E24="",O$2=""),"",ROUND(IF($F24="Rent shares",$E24*Setup!$B$16,IF($F24="Custom",IF(SUM($G24:$L24)=0,0,$E24*I24/SUM($G24:$L24)),$E24/COUNTA(Setup!$A$14:$A$19))),2)) | P24: =IF(OR($E24="",P$2=""),"",ROUND(IF($F24="Rent shares",$E24*Setup!$B$17,IF($F24="Custom",IF(SUM($G24:$L24)=0,0,$E24*J24/SUM($G24:$L24)),$E24/COUNTA(Setup!$A$14:$A$19))),2)) | Q24: =IF(OR($E24="",Q$2=""),"",ROUND(IF($F24="Rent shares",$E24*Setup!$B$18,IF($F24="Custom",IF(SUM($G24:$L24)=0,0,$E24*K24/SUM($G24:$L24)),$E24/COUNTA(Setup!$A$14:$A$19))),2)) | R24: =IF(OR($E24="",R$2=""),"",ROUND(IF($F24="Rent shares",$E24*Setup!$B$19,IF($F24="Custom",IF(SUM($G24:$L24)=0,0,$E24*L24/SUM($G24:$L24)),$E24/COUNTA(Setup!$A$14:$A$19))),2)) | S24: =IF($E24="","",IF(ABS(SUM(M24:R24)-$E24)<0.02,"OK","CHECK")) | T24: =IF($A24="","",YEAR($A24)*100+MONTH($A24))
M25: =IF(OR($E25="",M$2=""),"",ROUND(IF($F25="Rent shares",$E25*Setup!$B$14,IF($F25="Custom",IF(SUM($G25:$L25)=0,0,$E25*G25/SUM($G25:$L25)),$E25/COUNTA(Setup!$A$14:$A$19))),2)) | N25: =IF(OR($E25="",N$2=""),"",ROUND(IF($F25="Rent shares",$E25*Setup!$B$15,IF($F25="Custom",IF(SUM($G25:$L25)=0,0,$E25*H25/SUM($G25:$L25)),$E25/COUNTA(Setup!$A$14:$A$19))),2)) | O25: =IF(OR($E25="",O$2=""),"",ROUND(IF($F25="Rent shares",$E25*Setup!$B$16,IF($F25="Custom",IF(SUM($G25:$L25)=0,0,$E25*I25/SUM($G25:$L25)),$E25/COUNTA(Setup!$A$14:$A$19))),2)) | P25: =IF(OR($E25="",P$2=""),"",ROUND(IF($F25="Rent shares",$E25*Setup!$B$17,IF($F25="Custom",IF(SUM($G25:$L25)=0,0,$E25*J25/SUM($G25:$L25)),$E25/COUNTA(Setup!$A$14:$A$19))),2)) | Q25: =IF(OR($E25="",Q$2=""),"",ROUND(IF($F25="Rent shares",$E25*Setup!$B$18,IF($F25="Custom",IF(SUM($G25:$L25)=0,0,$E25*K25/SUM($G25:$L25)),$E25/COUNTA(Setup!$A$14:$A$19))),2)) | R25: =IF(OR($E25="",R$2=""),"",ROUND(IF($F25="Rent shares",$E25*Setup!$B$19,IF($F25="Custom",IF(SUM($G25:$L25)=0,0,$E25*L25/SUM($G25:$L25)),$E25/COUNTA(Setup!$A$14:$A$19))),2)) | S25: =IF($E25="","",IF(ABS(SUM(M25:R25)-$E25)<0.02,"OK","CHECK")) | T25: =IF($A25="","",YEAR($A25)*100+MONTH($A25))
M26: =IF(OR($E26="",M$2=""),"",ROUND(IF($F26="Rent shares",$E26*Setup!$B$14,IF($F26="Custom",IF(SUM($G26:$L26)=0,0,$E26*G26/SUM($G26:$L26)),$E26/COUNTA(Setup!$A$14:$A$19))),2)) | N26: =IF(OR($E26="",N$2=""),"",ROUND(IF($F26="Rent shares",$E26*Setup!$B$15,IF($F26="Custom",IF(SUM($G26:$L26)=0,0,$E26*H26/SUM($G26:$L26)),$E26/COUNTA(Setup!$A$14:$A$19))),2)) | O26: =IF(OR($E26="",O$2=""),"",ROUND(IF($F26="Rent shares",$E26*Setup!$B$16,IF($F26="Custom",IF(SUM($G26:$L26)=0,0,$E26*I26/SUM($G26:$L26)),$E26/COUNTA(Setup!$A$14:$A$19))),2)) | P26: =IF(OR($E26="",P$2=""),"",ROUND(IF($F26="Rent shares",$E26*Setup!$B$17,IF($F26="Custom",IF(SUM($G26:$L26)=0,0,$E26*J26/SUM($G26:$L26)),$E26/COUNTA(Setup!$A$14:$A$19))),2)) | Q26: =IF(OR($E26="",Q$2=""),"",ROUND(IF($F26="Rent shares",$E26*Setup!$B$18,IF($F26="Custom",IF(SUM($G26:$L26)=0,0,$E26*K26/SUM($G26:$L26)),$E26/COUNTA(Setup!$A$14:$A$19))),2)) | R26: =IF(OR($E26="",R$2=""),"",ROUND(IF($F26="Rent shares",$E26*Setup!$B$19,IF($F26="Custom",IF(SUM($G26:$L26)=0,0,$E26*L26/SUM($G26:$L26)),$E26/COUNTA(Setup!$A$14:$A$19))),2)) | S26: =IF($E26="","",IF(ABS(SUM(M26:R26)-$E26)<0.02,"OK","CHECK")) | T26: =IF($A26="","",YEAR($A26)*100+MONTH($A26))
M27: =IF(OR($E27="",M$2=""),"",ROUND(IF($F27="Rent shares",$E27*Setup!$B$14,IF($F27="Custom",IF(SUM($G27:$L27)=0,0,$E27*G27/SUM($G27:$L27)),$E27/COUNTA(Setup!$A$14:$A$19))),2)) | N27: =IF(OR($E27="",N$2=""),"",ROUND(IF($F27="Rent shares",$E27*Setup!$B$15,IF($F27="Custom",IF(SUM($G27:$L27)=0,0,$E27*H27/SUM($G27:$L27)),$E27/COUNTA(Setup!$A$14:$A$19))),2)) | O27: =IF(OR($E27="",O$2=""),"",ROUND(IF($F27="Rent shares",$E27*Setup!$B$16,IF($F27="Custom",IF(SUM($G27:$L27)=0,0,$E27*I27/SUM($G27:$L27)),$E27/COUNTA(Setup!$A$14:$A$19))),2)) | P27: =IF(OR($E27="",P$2=""),"",ROUND(IF($F27="Rent shares",$E27*Setup!$B$17,IF($F27="Custom",IF(SUM($G27:$L27)=0,0,$E27*J27/SUM($G27:$L27)),$E27/COUNTA(Setup!$A$14:$A$19))),2)) | Q27: =IF(OR($E27="",Q$2=""),"",ROUND(IF($F27="Rent shares",$E27*Setup!$B$18,IF($F27="Custom",IF(SUM($G27:$L27)=0,0,$E27*K27/SUM($G27:$L27)),$E27/COUNTA(Setup!$A$14:$A$19))),2)) | R27: =IF(OR($E27="",R$2=""),"",ROUND(IF($F27="Rent shares",$E27*Setup!$B$19,IF($F27="Custom",IF(SUM($G27:$L27)=0,0,$E27*L27/SUM($G27:$L27)),$E27/COUNTA(Setup!$A$14:$A$19))),2)) | S27: =IF($E27="","",IF(ABS(SUM(M27:R27)-$E27)<0.02,"OK","CHECK")) | T27: =IF($A27="","",YEAR($A27)*100+MONTH($A27))
M28: =IF(OR($E28="",M$2=""),"",ROUND(IF($F28="Rent shares",$E28*Setup!$B$14,IF($F28="Custom",IF(SUM($G28:$L28)=0,0,$E28*G28/SUM($G28:$L28)),$E28/COUNTA(Setup!$A$14:$A$19))),2)) | N28: =IF(OR($E28="",N$2=""),"",ROUND(IF($F28="Rent shares",$E28*Setup!$B$15,IF($F28="Custom",IF(SUM($G28:$L28)=0,0,$E28*H28/SUM($G28:$L28)),$E28/COUNTA(Setup!$A$14:$A$19))),2)) | O28: =IF(OR($E28="",O$2=""),"",ROUND(IF($F28="Rent shares",$E28*Setup!$B$16,IF($F28="Custom",IF(SUM($G28:$L28)=0,0,$E28*I28/SUM($G28:$L28)),$E28/COUNTA(Setup!$A$14:$A$19))),2)) | P28: =IF(OR($E28="",P$2=""),"",ROUND(IF($F28="Rent shares",$E28*Setup!$B$17,IF($F28="Custom",IF(SUM($G28:$L28)=0,0,$E28*J28/SUM($G28:$L28)),$E28/COUNTA(Setup!$A$14:$A$19))),2)) | Q28: =IF(OR($E28="",Q$2=""),"",ROUND(IF($F28="Rent shares",$E28*Setup!$B$18,IF($F28="Custom",IF(SUM($G28:$L28)=0,0,$E28*K28/SUM($G28:$L28)),$E28/COUNTA(Setup!$A$14:$A$19))),2)) | R28: =IF(OR($E28="",R$2=""),"",ROUND(IF($F28="Rent shares",$E28*Setup!$B$19,IF($F28="Custom",IF(SUM($G28:$L28)=0,0,$E28*L28/SUM($G28:$L28)),$E28/COUNTA(Setup!$A$14:$A$19))),2)) | S28: =IF($E28="","",IF(ABS(SUM(M28:R28)-$E28)<0.02,"OK","CHECK")) | T28: =IF($A28="","",YEAR($A28)*100+MONTH($A28))
M29: =IF(OR($E29="",M$2=""),"",ROUND(IF($F29="Rent shares",$E29*Setup!$B$14,IF($F29="Custom",IF(SUM($G29:$L29)=0,0,$E29*G29/SUM($G29:$L29)),$E29/COUNTA(Setup!$A$14:$A$19))),2)) | N29: =IF(OR($E29="",N$2=""),"",ROUND(IF($F29="Rent shares",$E29*Setup!$B$15,IF($F29="Custom",IF(SUM($G29:$L29)=0,0,$E29*H29/SUM($G29:$L29)),$E29/COUNTA(Setup!$A$14:$A$19))),2)) | O29: =IF(OR($E29="",O$2=""),"",ROUND(IF($F29="Rent shares",$E29*Setup!$B$16,IF($F29="Custom",IF(SUM($G29:$L29)=0,0,$E29*I29/SUM($G29:$L29)),$E29/COUNTA(Setup!$A$14:$A$19))),2)) | P29: =IF(OR($E29="",P$2=""),"",ROUND(IF($F29="Rent shares",$E29*Setup!$B$17,IF($F29="Custom",IF(SUM($G29:$L29)=0,0,$E29*J29/SUM($G29:$L29)),$E29/COUNTA(Setup!$A$14:$A$19))),2)) | Q29: =IF(OR($E29="",Q$2=""),"",ROUND(IF($F29="Rent shares",$E29*Setup!$B$18,IF($F29="Custom",IF(SUM($G29:$L29)=0,0,$E29*K29/SUM($G29:$L29)),$E29/COUNTA(Setup!$A$14:$A$19))),2)) | R29: =IF(OR($E29="",R$2=""),"",ROUND(IF($F29="Rent shares",$E29*Setup!$B$19,IF($F29="Custom",IF(SUM($G29:$L29)=0,0,$E29*L29/SUM($G29:$L29)),$E29/COUNTA(Setup!$A$14:$A$19))),2)) | S29: =IF($E29="","",IF(ABS(SUM(M29:R29)-$E29)<0.02,"OK","CHECK")) | T29: =IF($A29="","",YEAR($A29)*100+MONTH($A29))
M30: =IF(OR($E30="",M$2=""),"",ROUND(IF($F30="Rent shares",$E30*Setup!$B$14,IF($F30="Custom",IF(SUM($G30:$L30)=0,0,$E30*G30/SUM($G30:$L30)),$E30/COUNTA(Setup!$A$14:$A$19))),2)) | N30: =IF(OR($E30="",N$2=""),"",ROUND(IF($F30="Rent shares",$E30*Setup!$B$15,IF($F30="Custom",IF(SUM($G30:$L30)=0,0,$E30*H30/SUM($G30:$L30)),$E30/COUNTA(Setup!$A$14:$A$19))),2)) | O30: =IF(OR($E30="",O$2=""),"",ROUND(IF($F30="Rent shares",$E30*Setup!$B$16,IF($F30="Custom",IF(SUM($G30:$L30)=0,0,$E30*I30/SUM($G30:$L30)),$E30/COUNTA(Setup!$A$14:$A$19))),2)) | P30: =IF(OR($E30="",P$2=""),"",ROUND(IF($F30="Rent shares",$E30*Setup!$B$17,IF($F30="Custom",IF(SUM($G30:$L30)=0,0,$E30*J30/SUM($G30:$L30)),$E30/COUNTA(Setup!$A$14:$A$19))),2)) | Q30: =IF(OR($E30="",Q$2=""),"",ROUND(IF($F30="Rent shares",$E30*Setup!$B$18,IF($F30="Custom",IF(SUM($G30:$L30)=0,0,$E30*K30/SUM($G30:$L30)),$E30/COUNTA(Setup!$A$14:$A$19))),2)) | R30: =IF(OR($E30="",R$2=""),"",ROUND(IF($F30="Rent shares",$E30*Setup!$B$19,IF($F30="Custom",IF(SUM($G30:$L30)=0,0,$E30*L30/SUM($G30:$L30)),$E30/COUNTA(Setup!$A$14:$A$19))),2)) | S30: =IF($E30="","",IF(ABS(SUM(M30:R30)-$E30)<0.02,"OK","CHECK")) | T30: =IF($A30="","",YEAR($A30)*100+MONTH($A30))
M31: =IF(OR($E31="",M$2=""),"",ROUND(IF($F31="Rent shares",$E31*Setup!$B$14,IF($F31="Custom",IF(SUM($G31:$L31)=0,0,$E31*G31/SUM($G31:$L31)),$E31/COUNTA(Setup!$A$14:$A$19))),2)) | N31: =IF(OR($E31="",N$2=""),"",ROUND(IF($F31="Rent shares",$E31*Setup!$B$15,IF($F31="Custom",IF(SUM($G31:$L31)=0,0,$E31*H31/SUM($G31:$L31)),$E31/COUNTA(Setup!$A$14:$A$19))),2)) | O31: =IF(OR($E31="",O$2=""),"",ROUND(IF($F31="Rent shares",$E31*Setup!$B$16,IF($F31="Custom",IF(SUM($G31:$L31)=0,0,$E31*I31/SUM($G31:$L31)),$E31/COUNTA(Setup!$A$14:$A$19))),2)) | P31: =IF(OR($E31="",P$2=""),"",ROUND(IF($F31="Rent shares",$E31*Setup!$B$17,IF($F31="Custom",IF(SUM($G31:$L31)=0,0,$E31*J31/SUM($G31:$L31)),$E31/COUNTA(Setup!$A$14:$A$19))),2)) | Q31: =IF(OR($E31="",Q$2=""),"",ROUND(IF($F31="Rent shares",$E31*Setup!$B$18,IF($F31="Custom",IF(SUM($G31:$L31)=0,0,$E31*K31/SUM($G31:$L31)),$E31/COUNTA(Setup!$A$14:$A$19))),2)) | R31: =IF(OR($E31="",R$2=""),"",ROUND(IF($F31="Rent shares",$E31*Setup!$B$19,IF($F31="Custom",IF(SUM($G31:$L31)=0,0,$E31*L31/SUM($G31:$L31)),$E31/COUNTA(Setup!$A$14:$A$19))),2)) | S31: =IF($E31="","",IF(ABS(SUM(M31:R31)-$E31)<0.02,"OK","CHECK")) | T31: =IF($A31="","",YEAR($A31)*100+MONTH($A31))
... M302: =IF(OR($E302="",M$2=""),"",ROUND(IF($F302="Rent shares",$E302*Setup!$B$14,IF($F302="Custom",IF(SUM($G302:$L302)=0,0,$E302*G302/SUM($G302:$L302)),$E302/COUNTA(Setup!$A$14:$A$19))),2)) | N302: =IF(OR($E302="",N$2=""),"",ROUND(IF($F302="Rent shares",$E302*Setup!$B$15,IF($F302="Custom",IF(SUM($G302:$L302)=0,0,$E302*H302/SUM($G302:$L302)),$E302/COUNTA(Setup!$A$14:$A$19))),2)) | O302: =IF(OR($E302="",O$2=""),"",ROUND(IF($F302="Rent shares",$E302*Setup!$B$16,IF($F302="Custom",IF(SUM($G302:$L302)=0,0,$E302*I302/SUM($G302:$L302)),$E302/COUNTA(Setup!$A$14:$A$19))),2)) | P302: =IF(OR($E302="",P$2=""),"",ROUND(IF($F302="Rent shares",$E302*Setup!$B$17,IF($F302="Custom",IF(SUM($G302:$L302)=0,0,$E302*J302/SUM($G302:$L302)),$E302/COUNTA(Setup!$A$14:$A$19))),2)) | Q302: =IF(OR($E302="",Q$2=""),"",ROUND(IF($F302="Rent shares",$E302*Setup!$B$18,IF($F302="Custom",IF(SUM($G302:$L302)=0,0,$E302*K302/SUM($G302:$L302)),$E302/COUNTA(Setup!$A$14:$A$19))),2)) | R302: =IF(OR($E302="",R$2=""),"",ROUND(IF($F302="Rent shares",$E302*Setup!$B$19,IF($F302="Custom",IF(SUM($G302:$L302)=0,0,$E302*L302/SUM($G302:$L302)),$E302/COUNTA(Setup!$A$14:$A$19))),2)) | S302: =IF($E302="","",IF(ABS(SUM(M302:R302)-$E302)<0.02,"OK","CHECK")) | T302: =IF($A302="","",YEAR($A302)*100+MONTH($A302))
D303: Totals | E303: =SUM(E3:E302) | M303: =SUM(M3:M302) | N303: =SUM(N3:N302) | O303: =SUM(O3:O302) | P303: =SUM(P3:P302) | Q303: =SUM(Q3:Q302) | R303: =SUM(R3:R302)

Sheet Balances
A1: Balances
A2: ="Selected month: "&Setup!$B$8&". Change it on the Setup tab."
B3: Selected month (spending only) | E3: All time (includes repayments)
A4: Roommate | B4: Paid | C4: Share | D4: Net | E4: Paid | F4: Share | G4: Net | H4: Meaning
A5: =IF(Setup!$A$14="","",Setup!$A$14) | B5: =IF($A5="","",SUMIFS(Expenses!$E$3:$E$302,Expenses!$D$3:$D$302,$A5,Expenses!$T$3:$T$302,Setup!$B$7,Expenses!$C$3:$C$302,"<>"&'Monthly summary'!$A$14)) | C5: =IF($A5="","",SUMIFS(Expenses!$M$3:$M$302,Expenses!$T$3:$T$302,Setup!$B$7,Expenses!$C$3:$C$302,"<>"&'Monthly summary'!$A$14)) | D5: =IF($A5="","",B5-C5) | E5: =IF($A5="","",SUMIF(Expenses!$D$3:$D$302,$A5,Expenses!$E$3:$E$302)) | F5: =IF($A5="","",SUM(Expenses!$M$3:$M$302)) | G5: =IF($A5="","",E5-F5) | H5: =IF($A5="","",IF(G5>0.01,"Gets money back",IF(G5<-0.01,"Owes the others","Settled")))
A6: =IF(Setup!$A$15="","",Setup!$A$15) | B6: =IF($A6="","",SUMIFS(Expenses!$E$3:$E$302,Expenses!$D$3:$D$302,$A6,Expenses!$T$3:$T$302,Setup!$B$7,Expenses!$C$3:$C$302,"<>"&'Monthly summary'!$A$14)) | C6: =IF($A6="","",SUMIFS(Expenses!$N$3:$N$302,Expenses!$T$3:$T$302,Setup!$B$7,Expenses!$C$3:$C$302,"<>"&'Monthly summary'!$A$14)) | D6: =IF($A6="","",B6-C6) | E6: =IF($A6="","",SUMIF(Expenses!$D$3:$D$302,$A6,Expenses!$E$3:$E$302)) | F6: =IF($A6="","",SUM(Expenses!$N$3:$N$302)) | G6: =IF($A6="","",E6-F6) | H6: =IF($A6="","",IF(G6>0.01,"Gets money back",IF(G6<-0.01,"Owes the others","Settled")))
A7: =IF(Setup!$A$16="","",Setup!$A$16) | B7: =IF($A7="","",SUMIFS(Expenses!$E$3:$E$302,Expenses!$D$3:$D$302,$A7,Expenses!$T$3:$T$302,Setup!$B$7,Expenses!$C$3:$C$302,"<>"&'Monthly summary'!$A$14)) | C7: =IF($A7="","",SUMIFS(Expenses!$O$3:$O$302,Expenses!$T$3:$T$302,Setup!$B$7,Expenses!$C$3:$C$302,"<>"&'Monthly summary'!$A$14)) | D7: =IF($A7="","",B7-C7) | E7: =IF($A7="","",SUMIF(Expenses!$D$3:$D$302,$A7,Expenses!$E$3:$E$302)) | F7: =IF($A7="","",SUM(Expenses!$O$3:$O$302)) | G7: =IF($A7="","",E7-F7) | H7: =IF($A7="","",IF(G7>0.01,"Gets money back",IF(G7<-0.01,"Owes the others","Settled")))
A8: =IF(Setup!$A$17="","",Setup!$A$17) | B8: =IF($A8="","",SUMIFS(Expenses!$E$3:$E$302,Expenses!$D$3:$D$302,$A8,Expenses!$T$3:$T$302,Setup!$B$7,Expenses!$C$3:$C$302,"<>"&'Monthly summary'!$A$14)) | C8: =IF($A8="","",SUMIFS(Expenses!$P$3:$P$302,Expenses!$T$3:$T$302,Setup!$B$7,Expenses!$C$3:$C$302,"<>"&'Monthly summary'!$A$14)) | D8: =IF($A8="","",B8-C8) | E8: =IF($A8="","",SUMIF(Expenses!$D$3:$D$302,$A8,Expenses!$E$3:$E$302)) | F8: =IF($A8="","",SUM(Expenses!$P$3:$P$302)) | G8: =IF($A8="","",E8-F8) | H8: =IF($A8="","",IF(G8>0.01,"Gets money back",IF(G8<-0.01,"Owes the others","Settled")))
A9: =IF(Setup!$A$18="","",Setup!$A$18) | B9: =IF($A9="","",SUMIFS(Expenses!$E$3:$E$302,Expenses!$D$3:$D$302,$A9,Expenses!$T$3:$T$302,Setup!$B$7,Expenses!$C$3:$C$302,"<>"&'Monthly summary'!$A$14)) | C9: =IF($A9="","",SUMIFS(Expenses!$Q$3:$Q$302,Expenses!$T$3:$T$302,Setup!$B$7,Expenses!$C$3:$C$302,"<>"&'Monthly summary'!$A$14)) | D9: =IF($A9="","",B9-C9) | E9: =IF($A9="","",SUMIF(Expenses!$D$3:$D$302,$A9,Expenses!$E$3:$E$302)) | F9: =IF($A9="","",SUM(Expenses!$Q$3:$Q$302)) | G9: =IF($A9="","",E9-F9) | H9: =IF($A9="","",IF(G9>0.01,"Gets money back",IF(G9<-0.01,"Owes the others","Settled")))
A10: =IF(Setup!$A$19="","",Setup!$A$19) | B10: =IF($A10="","",SUMIFS(Expenses!$E$3:$E$302,Expenses!$D$3:$D$302,$A10,Expenses!$T$3:$T$302,Setup!$B$7,Expenses!$C$3:$C$302,"<>"&'Monthly summary'!$A$14)) | C10: =IF($A10="","",SUMIFS(Expenses!$R$3:$R$302,Expenses!$T$3:$T$302,Setup!$B$7,Expenses!$C$3:$C$302,"<>"&'Monthly summary'!$A$14)) | D10: =IF($A10="","",B10-C10) | E10: =IF($A10="","",SUMIF(Expenses!$D$3:$D$302,$A10,Expenses!$E$3:$E$302)) | F10: =IF($A10="","",SUM(Expenses!$R$3:$R$302)) | G10: =IF($A10="","",E10-F10) | H10: =IF($A10="","",IF(G10>0.01,"Gets money back",IF(G10<-0.01,"Owes the others","Settled")))
A11: Total | B11: =SUM(B5:B10) | C11: =SUM(C5:C10) | D11: =IF(ROUND(SUM(D5:D10),2)=0,"Balanced","Off by "&TEXT(SUM(D5:D10),"#,##0.00")) | E11: =SUM(E5:E10) | F11: =SUM(F5:F10) | G11: =IF(ROUND(SUM(G5:G10),2)=0,"Balanced","Off by "&TEXT(SUM(G5:G10),"#,##0.00"))
A13: Paid = what each roommate paid out. Share = their part of the bills. Net = paid minus share: green gets money back, red owes the others.
A14: Selected month counts only that month's spending. All time also counts the repayments you logged, so it shows what is still owed right now.
A16: Made with HippoSplit, expense splitting as easy as texting.
A17: Try it free: hipposplit.com

Sheet Settle up
A1: Who pays whom (fewest transfers) | G1: Helper area for the transfer math. Hidden on purpose, do not delete.
A2: Settle for | B2: All time
A3: From | B3: To | C3: Amount | G3: =IF(Balances!$A$5="","",Balances!$A$5) | H3: =IF(Balances!$A$6="","",Balances!$A$6) | I3: =IF(Balances!$A$7="","",Balances!$A$7) | J3: =IF(Balances!$A$8="","",Balances!$A$8) | K3: =IF(Balances!$A$9="","",Balances!$A$9) | L3: =IF(Balances!$A$10="","",Balances!$A$10)
A4: =IF($M$4<0.01,"",INDEX($G$3:$L$3,MATCH(MIN($G$4:$L$4),$G$4:$L$4,0))) | B4: =IF($M$4<0.01,"",INDEX($G$3:$L$3,MATCH(MAX($G$4:$L$4),$G$4:$L$4,0))) | C4: =IF($M$4<0.01,"",$M$4) | G4: =IF(Balances!$A$5="",0,ROUND(IF($B$2="Selected month",Balances!$D$5,Balances!$G$5),2)) | H4: =IF(Balances!$A$6="",0,ROUND(IF($B$2="Selected month",Balances!$D$6,Balances!$G$6),2)) | I4: =IF(Balances!$A$7="",0,ROUND(IF($B$2="Selected month",Balances!$D$7,Balances!$G$7),2)) | J4: =IF(Balances!$A$8="",0,ROUND(IF($B$2="Selected month",Balances!$D$8,Balances!$G$8),2)) | K4: =IF(Balances!$A$9="",0,ROUND(IF($B$2="Selected month",Balances!$D$9,Balances!$G$9),2)) | L4: =IF(Balances!$A$10="",0,ROUND(IF($B$2="Selected month",Balances!$D$10,Balances!$G$10),2)) | M4: =ROUND(MAX(0,MIN(MAX($G$4:$L$4),-MIN($G$4:$L$4))),2)
A5: =IF($M$5<0.01,"",INDEX($G$3:$L$3,MATCH(MIN($G$5:$L$5),$G$5:$L$5,0))) | B5: =IF($M$5<0.01,"",INDEX($G$3:$L$3,MATCH(MAX($G$5:$L$5),$G$5:$L$5,0))) | C5: =IF($M$5<0.01,"",$M$5) | G5: =ROUND(G4+IF(AND($M$4>=0.01,G$3=INDEX($G$3:$L$3,MATCH(MIN($G$4:$L$4),$G$4:$L$4,0))),$M$4,0)-IF(AND($M$4>=0.01,G$3=INDEX($G$3:$L$3,MATCH(MAX($G$4:$L$4),$G$4:$L$4,0))),$M$4,0),2) | H5: =ROUND(H4+IF(AND($M$4>=0.01,H$3=INDEX($G$3:$L$3,MATCH(MIN($G$4:$L$4),$G$4:$L$4,0))),$M$4,0)-IF(AND($M$4>=0.01,H$3=INDEX($G$3:$L$3,MATCH(MAX($G$4:$L$4),$G$4:$L$4,0))),$M$4,0),2) | I5: =ROUND(I4+IF(AND($M$4>=0.01,I$3=INDEX($G$3:$L$3,MATCH(MIN($G$4:$L$4),$G$4:$L$4,0))),$M$4,0)-IF(AND($M$4>=0.01,I$3=INDEX($G$3:$L$3,MATCH(MAX($G$4:$L$4),$G$4:$L$4,0))),$M$4,0),2) | J5: =ROUND(J4+IF(AND($M$4>=0.01,J$3=INDEX($G$3:$L$3,MATCH(MIN($G$4:$L$4),$G$4:$L$4,0))),$M$4,0)-IF(AND($M$4>=0.01,J$3=INDEX($G$3:$L$3,MATCH(MAX($G$4:$L$4),$G$4:$L$4,0))),$M$4,0),2) | K5: =ROUND(K4+IF(AND($M$4>=0.01,K$3=INDEX($G$3:$L$3,MATCH(MIN($G$4:$L$4),$G$4:$L$4,0))),$M$4,0)-IF(AND($M$4>=0.01,K$3=INDEX($G$3:$L$3,MATCH(MAX($G$4:$L$4),$G$4:$L$4,0))),$M$4,0),2) | L5: =ROUND(L4+IF(AND($M$4>=0.01,L$3=INDEX($G$3:$L$3,MATCH(MIN($G$4:$L$4),$G$4:$L$4,0))),$M$4,0)-IF(AND($M$4>=0.01,L$3=INDEX($G$3:$L$3,MATCH(MAX($G$4:$L$4),$G$4:$L$4,0))),$M$4,0),2) | M5: =ROUND(MAX(0,MIN(MAX($G$5:$L$5),-MIN($G$5:$L$5))),2)
A6: =IF($M$6<0.01,"",INDEX($G$3:$L$3,MATCH(MIN($G$6:$L$6),$G$6:$L$6,0))) | B6: =IF($M$6<0.01,"",INDEX($G$3:$L$3,MATCH(MAX($G$6:$L$6),$G$6:$L$6,0))) | C6: =IF($M$6<0.01,"",$M$6) | G6: =ROUND(G5+IF(AND($M$5>=0.01,G$3=INDEX($G$3:$L$3,MATCH(MIN($G$5:$L$5),$G$5:$L$5,0))),$M$5,0)-IF(AND($M$5>=0.01,G$3=INDEX($G$3:$L$3,MATCH(MAX($G$5:$L$5),$G$5:$L$5,0))),$M$5,0),2) | H6: =ROUND(H5+IF(AND($M$5>=0.01,H$3=INDEX($G$3:$L$3,MATCH(MIN($G$5:$L$5),$G$5:$L$5,0))),$M$5,0)-IF(AND($M$5>=0.01,H$3=INDEX($G$3:$L$3,MATCH(MAX($G$5:$L$5),$G$5:$L$5,0))),$M$5,0),2) | I6: =ROUND(I5+IF(AND($M$5>=0.01,I$3=INDEX($G$3:$L$3,MATCH(MIN($G$5:$L$5),$G$5:$L$5,0))),$M$5,0)-IF(AND($M$5>=0.01,I$3=INDEX($G$3:$L$3,MATCH(MAX($G$5:$L$5),$G$5:$L$5,0))),$M$5,0),2) | J6: =ROUND(J5+IF(AND($M$5>=0.01,J$3=INDEX($G$3:$L$3,MATCH(MIN($G$5:$L$5),$G$5:$L$5,0))),$M$5,0)-IF(AND($M$5>=0.01,J$3=INDEX($G$3:$L$3,MATCH(MAX($G$5:$L$5),$G$5:$L$5,0))),$M$5,0),2) | K6: =ROUND(K5+IF(AND($M$5>=0.01,K$3=INDEX($G$3:$L$3,MATCH(MIN($G$5:$L$5),$G$5:$L$5,0))),$M$5,0)-IF(AND($M$5>=0.01,K$3=INDEX($G$3:$L$3,MATCH(MAX($G$5:$L$5),$G$5:$L$5,0))),$M$5,0),2) | L6: =ROUND(L5+IF(AND($M$5>=0.01,L$3=INDEX($G$3:$L$3,MATCH(MIN($G$5:$L$5),$G$5:$L$5,0))),$M$5,0)-IF(AND($M$5>=0.01,L$3=INDEX($G$3:$L$3,MATCH(MAX($G$5:$L$5),$G$5:$L$5,0))),$M$5,0),2) | M6: =ROUND(MAX(0,MIN(MAX($G$6:$L$6),-MIN($G$6:$L$6))),2)
A7: =IF($M$7<0.01,"",INDEX($G$3:$L$3,MATCH(MIN($G$7:$L$7),$G$7:$L$7,0))) | B7: =IF($M$7<0.01,"",INDEX($G$3:$L$3,MATCH(MAX($G$7:$L$7),$G$7:$L$7,0))) | C7: =IF($M$7<0.01,"",$M$7) | G7: =ROUND(G6+IF(AND($M$6>=0.01,G$3=INDEX($G$3:$L$3,MATCH(MIN($G$6:$L$6),$G$6:$L$6,0))),$M$6,0)-IF(AND($M$6>=0.01,G$3=INDEX($G$3:$L$3,MATCH(MAX($G$6:$L$6),$G$6:$L$6,0))),$M$6,0),2) | H7: =ROUND(H6+IF(AND($M$6>=0.01,H$3=INDEX($G$3:$L$3,MATCH(MIN($G$6:$L$6),$G$6:$L$6,0))),$M$6,0)-IF(AND($M$6>=0.01,H$3=INDEX($G$3:$L$3,MATCH(MAX($G$6:$L$6),$G$6:$L$6,0))),$M$6,0),2) | I7: =ROUND(I6+IF(AND($M$6>=0.01,I$3=INDEX($G$3:$L$3,MATCH(MIN($G$6:$L$6),$G$6:$L$6,0))),$M$6,0)-IF(AND($M$6>=0.01,I$3=INDEX($G$3:$L$3,MATCH(MAX($G$6:$L$6),$G$6:$L$6,0))),$M$6,0),2) | J7: =ROUND(J6+IF(AND($M$6>=0.01,J$3=INDEX($G$3:$L$3,MATCH(MIN($G$6:$L$6),$G$6:$L$6,0))),$M$6,0)-IF(AND($M$6>=0.01,J$3=INDEX($G$3:$L$3,MATCH(MAX($G$6:$L$6),$G$6:$L$6,0))),$M$6,0),2) | K7: =ROUND(K6+IF(AND($M$6>=0.01,K$3=INDEX($G$3:$L$3,MATCH(MIN($G$6:$L$6),$G$6:$L$6,0))),$M$6,0)-IF(AND($M$6>=0.01,K$3=INDEX($G$3:$L$3,MATCH(MAX($G$6:$L$6),$G$6:$L$6,0))),$M$6,0),2) | L7: =ROUND(L6+IF(AND($M$6>=0.01,L$3=INDEX($G$3:$L$3,MATCH(MIN($G$6:$L$6),$G$6:$L$6,0))),$M$6,0)-IF(AND($M$6>=0.01,L$3=INDEX($G$3:$L$3,MATCH(MAX($G$6:$L$6),$G$6:$L$6,0))),$M$6,0),2) | M7: =ROUND(MAX(0,MIN(MAX($G$7:$L$7),-MIN($G$7:$L$7))),2)
A8: =IF($M$8<0.01,"",INDEX($G$3:$L$3,MATCH(MIN($G$8:$L$8),$G$8:$L$8,0))) | B8: =IF($M$8<0.01,"",INDEX($G$3:$L$3,MATCH(MAX($G$8:$L$8),$G$8:$L$8,0))) | C8: =IF($M$8<0.01,"",$M$8) | G8: =ROUND(G7+IF(AND($M$7>=0.01,G$3=INDEX($G$3:$L$3,MATCH(MIN($G$7:$L$7),$G$7:$L$7,0))),$M$7,0)-IF(AND($M$7>=0.01,G$3=INDEX($G$3:$L$3,MATCH(MAX($G$7:$L$7),$G$7:$L$7,0))),$M$7,0),2) | H8: =ROUND(H7+IF(AND($M$7>=0.01,H$3=INDEX($G$3:$L$3,MATCH(MIN($G$7:$L$7),$G$7:$L$7,0))),$M$7,0)-IF(AND($M$7>=0.01,H$3=INDEX($G$3:$L$3,MATCH(MAX($G$7:$L$7),$G$7:$L$7,0))),$M$7,0),2) | I8: =ROUND(I7+IF(AND($M$7>=0.01,I$3=INDEX($G$3:$L$3,MATCH(MIN($G$7:$L$7),$G$7:$L$7,0))),$M$7,0)-IF(AND($M$7>=0.01,I$3=INDEX($G$3:$L$3,MATCH(MAX($G$7:$L$7),$G$7:$L$7,0))),$M$7,0),2) | J8: =ROUND(J7+IF(AND($M$7>=0.01,J$3=INDEX($G$3:$L$3,MATCH(MIN($G$7:$L$7),$G$7:$L$7,0))),$M$7,0)-IF(AND($M$7>=0.01,J$3=INDEX($G$3:$L$3,MATCH(MAX($G$7:$L$7),$G$7:$L$7,0))),$M$7,0),2) | K8: =ROUND(K7+IF(AND($M$7>=0.01,K$3=INDEX($G$3:$L$3,MATCH(MIN($G$7:$L$7),$G$7:$L$7,0))),$M$7,0)-IF(AND($M$7>=0.01,K$3=INDEX($G$3:$L$3,MATCH(MAX($G$7:$L$7),$G$7:$L$7,0))),$M$7,0),2) | L8: =ROUND(L7+IF(AND($M$7>=0.01,L$3=INDEX($G$3:$L$3,MATCH(MIN($G$7:$L$7),$G$7:$L$7,0))),$M$7,0)-IF(AND($M$7>=0.01,L$3=INDEX($G$3:$L$3,MATCH(MAX($G$7:$L$7),$G$7:$L$7,0))),$M$7,0),2) | M8: =ROUND(MAX(0,MIN(MAX($G$8:$L$8),-MIN($G$8:$L$8))),2)
G9: =ROUND(G8+IF(AND($M$8>=0.01,G$3=INDEX($G$3:$L$3,MATCH(MIN($G$8:$L$8),$G$8:$L$8,0))),$M$8,0)-IF(AND($M$8>=0.01,G$3=INDEX($G$3:$L$3,MATCH(MAX($G$8:$L$8),$G$8:$L$8,0))),$M$8,0),2) | H9: =ROUND(H8+IF(AND($M$8>=0.01,H$3=INDEX($G$3:$L$3,MATCH(MIN($G$8:$L$8),$G$8:$L$8,0))),$M$8,0)-IF(AND($M$8>=0.01,H$3=INDEX($G$3:$L$3,MATCH(MAX($G$8:$L$8),$G$8:$L$8,0))),$M$8,0),2) | I9: =ROUND(I8+IF(AND($M$8>=0.01,I$3=INDEX($G$3:$L$3,MATCH(MIN($G$8:$L$8),$G$8:$L$8,0))),$M$8,0)-IF(AND($M$8>=0.01,I$3=INDEX($G$3:$L$3,MATCH(MAX($G$8:$L$8),$G$8:$L$8,0))),$M$8,0),2) | J9: =ROUND(J8+IF(AND($M$8>=0.01,J$3=INDEX($G$3:$L$3,MATCH(MIN($G$8:$L$8),$G$8:$L$8,0))),$M$8,0)-IF(AND($M$8>=0.01,J$3=INDEX($G$3:$L$3,MATCH(MAX($G$8:$L$8),$G$8:$L$8,0))),$M$8,0),2) | K9: =ROUND(K8+IF(AND($M$8>=0.01,K$3=INDEX($G$3:$L$3,MATCH(MIN($G$8:$L$8),$G$8:$L$8,0))),$M$8,0)-IF(AND($M$8>=0.01,K$3=INDEX($G$3:$L$3,MATCH(MAX($G$8:$L$8),$G$8:$L$8,0))),$M$8,0),2) | L9: =ROUND(L8+IF(AND($M$8>=0.01,L$3=INDEX($G$3:$L$3,MATCH(MIN($G$8:$L$8),$G$8:$L$8,0))),$M$8,0)-IF(AND($M$8>=0.01,L$3=INDEX($G$3:$L$3,MATCH(MAX($G$8:$L$8),$G$8:$L$8,0))),$M$8,0),2)
A10: =IF(C4="","Nothing to settle. Log bills on the Expenses tab.","After these transfers, everyone is at zero.")
A11: All time = everything still owed, counting repayments you logged. Selected month = only that month's bills, if you settle month by month.
A12: Paid someone back? Log it on Expenses: category Repayment, Paid by = who sent the money, Split = Custom, and 1 in the receiver's Custom column.
A14: Skip the typing next time: in HippoSplit you type the bill in the group chat or post a photo of it, and the AI logs it and keeps the running balance.
A15: Try it free: hipposplit.com

Sheet Monthly summary
A1: Monthly summary
A2: ="Showing "&Setup!$B$8&". Change the month on the Setup tab."
A4: Category | B4: This month | C4: All time
A5: Rent | B5: =IF($A5="","",SUMIFS(Expenses!$E$3:$E$302,Expenses!$C$3:$C$302,$A5,Expenses!$T$3:$T$302,Setup!$B$7)) | C5: =IF($A5="","",SUMIF(Expenses!$C$3:$C$302,$A5,Expenses!$E$3:$E$302))
A6: Electricity | B6: =IF($A6="","",SUMIFS(Expenses!$E$3:$E$302,Expenses!$C$3:$C$302,$A6,Expenses!$T$3:$T$302,Setup!$B$7)) | C6: =IF($A6="","",SUMIF(Expenses!$C$3:$C$302,$A6,Expenses!$E$3:$E$302))
A7: Gas | B7: =IF($A7="","",SUMIFS(Expenses!$E$3:$E$302,Expenses!$C$3:$C$302,$A7,Expenses!$T$3:$T$302,Setup!$B$7)) | C7: =IF($A7="","",SUMIF(Expenses!$C$3:$C$302,$A7,Expenses!$E$3:$E$302))
A8: Water | B8: =IF($A8="","",SUMIFS(Expenses!$E$3:$E$302,Expenses!$C$3:$C$302,$A8,Expenses!$T$3:$T$302,Setup!$B$7)) | C8: =IF($A8="","",SUMIF(Expenses!$C$3:$C$302,$A8,Expenses!$E$3:$E$302))
A9: Internet | B9: =IF($A9="","",SUMIFS(Expenses!$E$3:$E$302,Expenses!$C$3:$C$302,$A9,Expenses!$T$3:$T$302,Setup!$B$7)) | C9: =IF($A9="","",SUMIF(Expenses!$C$3:$C$302,$A9,Expenses!$E$3:$E$302))
A10: Streaming & subscriptions | B10: =IF($A10="","",SUMIFS(Expenses!$E$3:$E$302,Expenses!$C$3:$C$302,$A10,Expenses!$T$3:$T$302,Setup!$B$7)) | C10: =IF($A10="","",SUMIF(Expenses!$C$3:$C$302,$A10,Expenses!$E$3:$E$302))
A11: Groceries & household | B11: =IF($A11="","",SUMIFS(Expenses!$E$3:$E$302,Expenses!$C$3:$C$302,$A11,Expenses!$T$3:$T$302,Setup!$B$7)) | C11: =IF($A11="","",SUMIF(Expenses!$C$3:$C$302,$A11,Expenses!$E$3:$E$302))
A12: Furniture & one-offs | B12: =IF($A12="","",SUMIFS(Expenses!$E$3:$E$302,Expenses!$C$3:$C$302,$A12,Expenses!$T$3:$T$302,Setup!$B$7)) | C12: =IF($A12="","",SUMIF(Expenses!$C$3:$C$302,$A12,Expenses!$E$3:$E$302))
A13: Other | B13: =IF($A13="","",SUMIFS(Expenses!$E$3:$E$302,Expenses!$C$3:$C$302,$A13,Expenses!$T$3:$T$302,Setup!$B$7)) | C13: =IF($A13="","",SUMIF(Expenses!$C$3:$C$302,$A13,Expenses!$E$3:$E$302))
A14: Repayment | B14: =IF($A14="","",SUMIFS(Expenses!$E$3:$E$302,Expenses!$C$3:$C$302,$A14,Expenses!$T$3:$T$302,Setup!$B$7)) | C14: =IF($A14="","",SUMIF(Expenses!$C$3:$C$302,$A14,Expenses!$E$3:$E$302)) | D14: money paid back, not spending; keep this name
A15: Everything else | B15: =SUMIFS(Expenses!$E$3:$E$302,Expenses!$T$3:$T$302,Setup!$B$7,Expenses!$C$3:$C$302,"<>"&'Monthly summary'!$A$14)-SUM($B$5:$B$13) | C15: =SUMIF(Expenses!$C$3:$C$302,"<>"&'Monthly summary'!$A$14,Expenses!$E$3:$E$302)-SUM($C$5:$C$13)
A16: Total spending | B16: =SUM(B5:B13)+B15 | C16: =SUM(C5:C13)+C15
A18: Rent check, selected month
A19: Monthly rent (from Setup) | B19: =Setup!$B$11
A20: Rent logged | B20: =$B$5
A21: Status | B21: =IF($B$19=0,"",IF(ABS($B$20-$B$19)<0.01,"Rent logged",IF($B$20=0,"Rent not logged yet",IF($B$20<$B$19,"Part of the rent logged","More than the rent logged"))))
A22: ="What each roommate paid for, month by month, in "&Setup!$B$5
A23: Month | B23: Total | C23: =IF(Setup!$A$14="","",Setup!$A$14) | D23: =IF(Setup!$A$15="","",Setup!$A$15) | E23: =IF(Setup!$A$16="","",Setup!$A$16) | F23: =IF(Setup!$A$17="","",Setup!$A$17) | G23: =IF(Setup!$A$18="","",Setup!$A$18) | H23: =IF(Setup!$A$19="","",Setup!$A$19)
A24: January | B24: =SUMIFS(Expenses!$E$3:$E$302,Expenses!$T$3:$T$302,Setup!$B$5*100+1,Expenses!$C$3:$C$302,"<>"&'Monthly summary'!$A$14) | C24: =IF(C$23="","",SUMIFS(Expenses!$M$3:$M$302,Expenses!$T$3:$T$302,Setup!$B$5*100+1,Expenses!$C$3:$C$302,"<>"&'Monthly summary'!$A$14)) | D24: =IF(D$23="","",SUMIFS(Expenses!$N$3:$N$302,Expenses!$T$3:$T$302,Setup!$B$5*100+1,Expenses!$C$3:$C$302,"<>"&'Monthly summary'!$A$14)) | E24: =IF(E$23="","",SUMIFS(Expenses!$O$3:$O$302,Expenses!$T$3:$T$302,Setup!$B$5*100+1,Expenses!$C$3:$C$302,"<>"&'Monthly summary'!$A$14)) | F24: =IF(F$23="","",SUMIFS(Expenses!$P$3:$P$302,Expenses!$T$3:$T$302,Setup!$B$5*100+1,Expenses!$C$3:$C$302,"<>"&'Monthly summary'!$A$14)) | G24: =IF(G$23="","",SUMIFS(Expenses!$Q$3:$Q$302,Expenses!$T$3:$T$302,Setup!$B$5*100+1,Expenses!$C$3:$C$302,"<>"&'Monthly summary'!$A$14)) | H24: =IF(H$23="","",SUMIFS(Expenses!$R$3:$R$302,Expenses!$T$3:$T$302,Setup!$B$5*100+1,Expenses!$C$3:$C$302,"<>"&'Monthly summary'!$A$14))
A25: February | B25: =SUMIFS(Expenses!$E$3:$E$302,Expenses!$T$3:$T$302,Setup!$B$5*100+2,Expenses!$C$3:$C$302,"<>"&'Monthly summary'!$A$14) | C25: =IF(C$23="","",SUMIFS(Expenses!$M$3:$M$302,Expenses!$T$3:$T$302,Setup!$B$5*100+2,Expenses!$C$3:$C$302,"<>"&'Monthly summary'!$A$14)) | D25: =IF(D$23="","",SUMIFS(Expenses!$N$3:$N$302,Expenses!$T$3:$T$302,Setup!$B$5*100+2,Expenses!$C$3:$C$302,"<>"&'Monthly summary'!$A$14)) | E25: =IF(E$23="","",SUMIFS(Expenses!$O$3:$O$302,Expenses!$T$3:$T$302,Setup!$B$5*100+2,Expenses!$C$3:$C$302,"<>"&'Monthly summary'!$A$14)) | F25: =IF(F$23="","",SUMIFS(Expenses!$P$3:$P$302,Expenses!$T$3:$T$302,Setup!$B$5*100+2,Expenses!$C$3:$C$302,"<>"&'Monthly summary'!$A$14)) | G25: =IF(G$23="","",SUMIFS(Expenses!$Q$3:$Q$302,Expenses!$T$3:$T$302,Setup!$B$5*100+2,Expenses!$C$3:$C$302,"<>"&'Monthly summary'!$A$14)) | H25: =IF(H$23="","",SUMIFS(Expenses!$R$3:$R$302,Expenses!$T$3:$T$302,Setup!$B$5*100+2,Expenses!$C$3:$C$302,"<>"&'Monthly summary'!$A$14))
A26: March | B26: =SUMIFS(Expenses!$E$3:$E$302,Expenses!$T$3:$T$302,Setup!$B$5*100+3,Expenses!$C$3:$C$302,"<>"&'Monthly summary'!$A$14) | C26: =IF(C$23="","",SUMIFS(Expenses!$M$3:$M$302,Expenses!$T$3:$T$302,Setup!$B$5*100+3,Expenses!$C$3:$C$302,"<>"&'Monthly summary'!$A$14)) | D26: =IF(D$23="","",SUMIFS(Expenses!$N$3:$N$302,Expenses!$T$3:$T$302,Setup!$B$5*100+3,Expenses!$C$3:$C$302,"<>"&'Monthly summary'!$A$14)) | E26: =IF(E$23="","",SUMIFS(Expenses!$O$3:$O$302,Expenses!$T$3:$T$302,Setup!$B$5*100+3,Expenses!$C$3:$C$302,"<>"&'Monthly summary'!$A$14)) | F26: =IF(F$23="","",SUMIFS(Expenses!$P$3:$P$302,Expenses!$T$3:$T$302,Setup!$B$5*100+3,Expenses!$C$3:$C$302,"<>"&'Monthly summary'!$A$14)) | G26: =IF(G$23="","",SUMIFS(Expenses!$Q$3:$Q$302,Expenses!$T$3:$T$302,Setup!$B$5*100+3,Expenses!$C$3:$C$302,"<>"&'Monthly summary'!$A$14)) | H26: =IF(H$23="","",SUMIFS(Expenses!$R$3:$R$302,Expenses!$T$3:$T$302,Setup!$B$5*100+3,Expenses!$C$3:$C$302,"<>"&'Monthly summary'!$A$14))
A27: April | B27: =SUMIFS(Expenses!$E$3:$E$302,Expenses!$T$3:$T$302,Setup!$B$5*100+4,Expenses!$C$3:$C$302,"<>"&'Monthly summary'!$A$14) | C27: =IF(C$23="","",SUMIFS(Expenses!$M$3:$M$302,Expenses!$T$3:$T$302,Setup!$B$5*100+4,Expenses!$C$3:$C$302,"<>"&'Monthly summary'!$A$14)) | D27: =IF(D$23="","",SUMIFS(Expenses!$N$3:$N$302,Expenses!$T$3:$T$302,Setup!$B$5*100+4,Expenses!$C$3:$C$302,"<>"&'Monthly summary'!$A$14)) | E27: =IF(E$23="","",SUMIFS(Expenses!$O$3:$O$302,Expenses!$T$3:$T$302,Setup!$B$5*100+4,Expenses!$C$3:$C$302,"<>"&'Monthly summary'!$A$14)) | F27: =IF(F$23="","",SUMIFS(Expenses!$P$3:$P$302,Expenses!$T$3:$T$302,Setup!$B$5*100+4,Expenses!$C$3:$C$302,"<>"&'Monthly summary'!$A$14)) | G27: =IF(G$23="","",SUMIFS(Expenses!$Q$3:$Q$302,Expenses!$T$3:$T$302,Setup!$B$5*100+4,Expenses!$C$3:$C$302,"<>"&'Monthly summary'!$A$14)) | H27: =IF(H$23="","",SUMIFS(Expenses!$R$3:$R$302,Expenses!$T$3:$T$302,Setup!$B$5*100+4,Expenses!$C$3:$C$302,"<>"&'Monthly summary'!$A$14))
